BEGIN:VCALENDAR
VERSION:2.0
PRODID:https://www.kufer.de/kuferweb / DE
METHOD:PUBLISH
CALSCALE:GREGORIAN
X-WR-TIMEZONE:Europe/Berlin
BEGIN:VTIMEZONE
TZID:Europe/Berlin
X-LIC-LOCATION:Europe/Berlin
BEGIN:DAYLIGHT
TZOFFSETFROM:+0100
TZOFFSETTO:+0200
TZNAME:CEST
DTSTART:19700329T020000
RRULE:FREQ=YEARLY;INTERVAL=1;BYDAY=-1SU;BYMONTH=3
END:DAYLIGHT
BEGIN:STANDARD
TZOFFSETFROM:+0200
TZOFFSETTO:+0100
TZNAME:CET
DTSTART:19701025T030000
RRULE:FREQ=YEARLY;INTERVAL=1;BYDAY=-1SU;BYMONTH=10
END:STANDARD
END:VTIMEZONE
BEGIN:VEVENT
DTSTAMP:20260420T055114
DTSTART;TZID=Europe/Berlin:20260220T174500
DTEND;TZID=Europe/Berlin:20260220T191500
UID:261.1A008N-20260220T174500@VHSESSEN
SUMMARY:Amerikanische Politik verstehen: Trump, Vance und die neuen Machtverhältnisse (261.1A008N) 
LOCATION:VHS, Raum 3.14, Burgplatz 1, 45127 Essen
END:VEVENT
BEGIN:VEVENT
DTSTAMP:20260420T055114
DTSTART;TZID=Europe/Berlin:20260227T174500
DTEND;TZID=Europe/Berlin:20260227T191500
UID:261.1A008N-20260227T174500@VHSESSEN
SUMMARY:Amerikanische Politik verstehen: Trump, Vance und die neuen Machtverhältnisse (261.1A008N) 
LOCATION:VHS, Raum 3.14, Burgplatz 1, 45127 Essen
END:VEVENT
BEGIN:VEVENT
DTSTAMP:20260420T055114
DTSTART;TZID=Europe/Berlin:20260306T174500
DTEND;TZID=Europe/Berlin:20260306T191500
UID:261.1A008N-20260306T174500@VHSESSEN
SUMMARY:Amerikanische Politik verstehen: Trump, Vance und die neuen Machtverhältnisse (261.1A008N) 
LOCATION:VHS, Raum 3.14, Burgplatz 1, 45127 Essen
END:VEVENT
BEGIN:VEVENT
DTSTAMP:20260420T055114
DTSTART;TZID=Europe/Berlin:20260313T174500
DTEND;TZID=Europe/Berlin:20260313T191500
UID:261.1A008N-20260313T174500@VHSESSEN
SUMMARY:Amerikanische Politik verstehen: Trump, Vance und die neuen Machtverhältnisse (261.1A008N) 
LOCATION:VHS, Raum 3.14, Burgplatz 1, 45127 Essen
END:VEVENT
BEGIN:VEVENT
DTSTAMP:20260420T055114
DTSTART;TZID=Europe/Berlin:20260320T174500
DTEND;TZID=Europe/Berlin:20260320T191500
UID:261.1A008N-20260320T174500@VHSESSEN
SUMMARY:Amerikanische Politik verstehen: Trump, Vance und die neuen Machtverhältnisse (261.1A008N) 
LOCATION:VHS, Raum 3.14, Burgplatz 1, 45127 Essen
END:VEVENT
BEGIN:VEVENT
DTSTAMP:20260420T055114
DTSTART;TZID=Europe/Berlin:20260327T174500
DTEND;TZID=Europe/Berlin:20260327T191500
UID:261.1A008N-20260327T174500@VHSESSEN
SUMMARY:Amerikanische Politik verstehen: Trump, Vance und die neuen Machtverhältnisse (261.1A008N) 
LOCATION:VHS, Raum 3.14, Burgplatz 1, 45127 Essen
END:VEVENT
BEGIN:VEVENT
DTSTAMP:20260420T055114
DTSTART;TZID=Europe/Berlin:20260417T174500
DTEND;TZID=Europe/Berlin:20260417T191500
UID:261.1A008N-20260417T174500@VHSESSEN
SUMMARY:Amerikanische Politik verstehen: Trump, Vance und die neuen Machtverhältnisse (261.1A008N) 
LOCATION:VHS, Raum 3.14, Burgplatz 1, 45127 Essen
END:VEVENT
BEGIN:VEVENT
DTSTAMP:20260420T055114
DTSTART;TZID=Europe/Berlin:20260424T174500
DTEND;TZID=Europe/Berlin:20260424T191500
UID:261.1A008N-20260424T174500@VHSESSEN
SUMMARY:Amerikanische Politik verstehen: Trump, Vance und die neuen Machtverhältnisse (261.1A008N) 
LOCATION:VHS, Raum 3.14, Burgplatz 1, 45127 Essen
END:VEVENT
BEGIN:VEVENT
DTSTAMP:20260420T055114
DTSTART;TZID=Europe/Berlin:20260508T174500
DTEND;TZID=Europe/Berlin:20260508T191500
UID:261.1A008N-20260508T174500@VHSESSEN
SUMMARY:Amerikanische Politik verstehen: Trump, Vance und die neuen Machtverhältnisse (261.1A008N) 
LOCATION:VHS, Raum 3.14, Burgplatz 1, 45127 Essen
END:VEVENT
BEGIN:VEVENT
DTSTAMP:20260420T055114
DTSTART;TZID=Europe/Berlin:20260515T174500
DTEND;TZID=Europe/Berlin:20260515T191500
UID:261.1A008N-20260515T174500@VHSESSEN
SUMMARY:Amerikanische Politik verstehen: Trump, Vance und die neuen Machtverhältnisse (261.1A008N) 
LOCATION:VHS, Raum 3.14, Burgplatz 1, 45127 Essen
END:VEVENT
BEGIN:VEVENT
DTSTAMP:20260420T055114
DTSTART;TZID=Europe/Berlin:20260522T174500
DTEND;TZID=Europe/Berlin:20260522T191500
UID:261.1A008N-20260522T174500@VHSESSEN
SUMMARY:Amerikanische Politik verstehen: Trump, Vance und die neuen Machtverhältnisse (261.1A008N) 
LOCATION:VHS, Raum 3.14, Burgplatz 1, 45127 Essen
END:VEVENT
BEGIN:VEVENT
DTSTAMP:20260420T055114
DTSTART;TZID=Europe/Berlin:20260529T174500
DTEND;TZID=Europe/Berlin:20260529T191500
UID:261.1A008N-20260529T174500@VHSESSEN
SUMMARY:Amerikanische Politik verstehen: Trump, Vance und die neuen Machtverhältnisse (261.1A008N) 
LOCATION:VHS, Raum 3.14, Burgplatz 1, 45127 Essen
END:VEVENT
END:VCALENDAR