BEGIN:VCALENDAR
VERSION:2.0
PRODID:https://www.kufer.de/kuferweb / DE
METHOD:PUBLISH
CALSCALE:GREGORIAN
X-WR-TIMEZONE:Europe/Berlin
BEGIN:VTIMEZONE
TZID:Europe/Berlin
X-LIC-LOCATION:Europe/Berlin
BEGIN:DAYLIGHT
TZOFFSETFROM:+0100
TZOFFSETTO:+0200
TZNAME:CEST
DTSTART:19700329T020000
RRULE:FREQ=YEARLY;INTERVAL=1;BYDAY=-1SU;BYMONTH=3
END:DAYLIGHT
BEGIN:STANDARD
TZOFFSETFROM:+0200
TZOFFSETTO:+0100
TZNAME:CET
DTSTART:19701025T030000
RRULE:FREQ=YEARLY;INTERVAL=1;BYDAY=-1SU;BYMONTH=10
END:STANDARD
END:VTIMEZONE
BEGIN:VEVENT
DTSTAMP:20260420T114552
DTSTART;TZID=Europe/Berlin:20260225T181500
DTEND;TZID=Europe/Berlin:20260225T194500
UID:261.1B054N-20260225T181500@VHSESSEN
SUMMARY:Steeler Geschichte (261.1B054N) 
LOCATION:VHS im Kulturforum, Raum 1.11 (Saal), Dreiringstr. 7, 45276 Essen
END:VEVENT
BEGIN:VEVENT
DTSTAMP:20260420T114552
DTSTART;TZID=Europe/Berlin:20260311T181500
DTEND;TZID=Europe/Berlin:20260311T194500
UID:261.1B054N-20260311T181500@VHSESSEN
SUMMARY:Steeler Geschichte (261.1B054N) 
LOCATION:VHS im Kulturforum, Raum 1.11 (Saal), Dreiringstr. 7, 45276 Essen
END:VEVENT
BEGIN:VEVENT
DTSTAMP:20260420T114552
DTSTART;TZID=Europe/Berlin:20260325T181500
DTEND;TZID=Europe/Berlin:20260325T194500
UID:261.1B054N-20260325T181500@VHSESSEN
SUMMARY:Steeler Geschichte (261.1B054N) 
LOCATION:VHS im Kulturforum, Raum 1.11 (Saal), Dreiringstr. 7, 45276 Essen
END:VEVENT
BEGIN:VEVENT
DTSTAMP:20260420T114552
DTSTART;TZID=Europe/Berlin:20260415T181500
DTEND;TZID=Europe/Berlin:20260415T194500
UID:261.1B054N-20260415T181500@VHSESSEN
SUMMARY:Steeler Geschichte (261.1B054N) 
LOCATION:VHS im Kulturforum, Raum 1.11 (Saal), Dreiringstr. 7, 45276 Essen
END:VEVENT
BEGIN:VEVENT
DTSTAMP:20260420T114552
DTSTART;TZID=Europe/Berlin:20260429T181500
DTEND;TZID=Europe/Berlin:20260429T194500
UID:261.1B054N-20260429T181500@VHSESSEN
SUMMARY:Steeler Geschichte (261.1B054N) 
LOCATION:VHS im Kulturforum, Raum 1.11 (Saal), Dreiringstr. 7, 45276 Essen
END:VEVENT
BEGIN:VEVENT
DTSTAMP:20260420T114552
DTSTART;TZID=Europe/Berlin:20260513T181500
DTEND;TZID=Europe/Berlin:20260513T194500
UID:261.1B054N-20260513T181500@VHSESSEN
SUMMARY:Steeler Geschichte (261.1B054N) 
LOCATION:VHS im Kulturforum, Raum 1.11 (Saal), Dreiringstr. 7, 45276 Essen
END:VEVENT
BEGIN:VEVENT
DTSTAMP:20260420T114552
DTSTART;TZID=Europe/Berlin:20260527T181500
DTEND;TZID=Europe/Berlin:20260527T194500
UID:261.1B054N-20260527T181500@VHSESSEN
SUMMARY:Steeler Geschichte (261.1B054N) 
LOCATION:VHS im Kulturforum, Raum 1.11 (Saal), Dreiringstr. 7, 45276 Essen
END:VEVENT
BEGIN:VEVENT
DTSTAMP:20260420T114552
DTSTART;TZID=Europe/Berlin:20260610T181500
DTEND;TZID=Europe/Berlin:20260610T194500
UID:261.1B054N-20260610T181500@VHSESSEN
SUMMARY:Steeler Geschichte (261.1B054N) 
LOCATION:VHS im Kulturforum, Raum 1.11 (Saal), Dreiringstr. 7, 45276 Essen
END:VEVENT
END:VCALENDAR