BEGIN:VCALENDAR
VERSION:2.0
PRODID:https://www.kufer.de/kuferweb / DE
METHOD:PUBLISH
CALSCALE:GREGORIAN
X-WR-TIMEZONE:Europe/Berlin
BEGIN:VTIMEZONE
TZID:Europe/Berlin
X-LIC-LOCATION:Europe/Berlin
BEGIN:DAYLIGHT
TZOFFSETFROM:+0100
TZOFFSETTO:+0200
TZNAME:CEST
DTSTART:19700329T020000
RRULE:FREQ=YEARLY;INTERVAL=1;BYDAY=-1SU;BYMONTH=3
END:DAYLIGHT
BEGIN:STANDARD
TZOFFSETFROM:+0200
TZOFFSETTO:+0100
TZNAME:CET
DTSTART:19701025T030000
RRULE:FREQ=YEARLY;INTERVAL=1;BYDAY=-1SU;BYMONTH=10
END:STANDARD
END:VTIMEZONE
BEGIN:VEVENT
DTSTAMP:20260421T102145
DTSTART;TZID=Europe/Berlin:20260223T114000
DTEND;TZID=Europe/Berlin:20260223T140000
UID:261.2D223J-20260223T114000@VHSESSEN
SUMMARY:Faszination Ton  Für Anfänger/-innen und Fortgeschrittene (261.2D223J) 
LOCATION:VHS, Raum 3.05 (Plastisches Gestalten), Burgplatz 1, 45127 Essen
END:VEVENT
BEGIN:VEVENT
DTSTAMP:20260421T102145
DTSTART;TZID=Europe/Berlin:20260302T114000
DTEND;TZID=Europe/Berlin:20260302T140000
UID:261.2D223J-20260302T114000@VHSESSEN
SUMMARY:Faszination Ton  Für Anfänger/-innen und Fortgeschrittene (261.2D223J) 
LOCATION:VHS, Raum 3.05 (Plastisches Gestalten), Burgplatz 1, 45127 Essen
END:VEVENT
BEGIN:VEVENT
DTSTAMP:20260421T102145
DTSTART;TZID=Europe/Berlin:20260309T114000
DTEND;TZID=Europe/Berlin:20260309T140000
UID:261.2D223J-20260309T114000@VHSESSEN
SUMMARY:Faszination Ton  Für Anfänger/-innen und Fortgeschrittene (261.2D223J) 
LOCATION:VHS, Raum 3.05 (Plastisches Gestalten), Burgplatz 1, 45127 Essen
END:VEVENT
BEGIN:VEVENT
DTSTAMP:20260421T102145
DTSTART;TZID=Europe/Berlin:20260316T114000
DTEND;TZID=Europe/Berlin:20260316T140000
UID:261.2D223J-20260316T114000@VHSESSEN
SUMMARY:Faszination Ton  Für Anfänger/-innen und Fortgeschrittene (261.2D223J) 
LOCATION:VHS, Raum 3.05 (Plastisches Gestalten), Burgplatz 1, 45127 Essen
END:VEVENT
BEGIN:VEVENT
DTSTAMP:20260421T102145
DTSTART;TZID=Europe/Berlin:20260323T114000
DTEND;TZID=Europe/Berlin:20260323T140000
UID:261.2D223J-20260323T114000@VHSESSEN
SUMMARY:Faszination Ton  Für Anfänger/-innen und Fortgeschrittene (261.2D223J) 
LOCATION:VHS, Raum 3.05 (Plastisches Gestalten), Burgplatz 1, 45127 Essen
END:VEVENT
BEGIN:VEVENT
DTSTAMP:20260421T102145
DTSTART;TZID=Europe/Berlin:20260413T114000
DTEND;TZID=Europe/Berlin:20260413T140000
UID:261.2D223J-20260413T114000@VHSESSEN
SUMMARY:Faszination Ton  Für Anfänger/-innen und Fortgeschrittene (261.2D223J) 
LOCATION:VHS, Raum 3.05 (Plastisches Gestalten), Burgplatz 1, 45127 Essen
END:VEVENT
BEGIN:VEVENT
DTSTAMP:20260421T102145
DTSTART;TZID=Europe/Berlin:20260420T114000
DTEND;TZID=Europe/Berlin:20260420T140000
UID:261.2D223J-20260420T114000@VHSESSEN
SUMMARY:Faszination Ton  Für Anfänger/-innen und Fortgeschrittene (261.2D223J) 
LOCATION:VHS, Raum 3.05 (Plastisches Gestalten), Burgplatz 1, 45127 Essen
END:VEVENT
BEGIN:VEVENT
DTSTAMP:20260421T102145
DTSTART;TZID=Europe/Berlin:20260427T114000
DTEND;TZID=Europe/Berlin:20260427T140000
UID:261.2D223J-20260427T114000@VHSESSEN
SUMMARY:Faszination Ton  Für Anfänger/-innen und Fortgeschrittene (261.2D223J) 
LOCATION:VHS, Raum 3.05 (Plastisches Gestalten), Burgplatz 1, 45127 Essen
END:VEVENT
BEGIN:VEVENT
DTSTAMP:20260421T102145
DTSTART;TZID=Europe/Berlin:20260504T114000
DTEND;TZID=Europe/Berlin:20260504T140000
UID:261.2D223J-20260504T114000@VHSESSEN
SUMMARY:Faszination Ton  Für Anfänger/-innen und Fortgeschrittene (261.2D223J) 
LOCATION:VHS, Raum 3.05 (Plastisches Gestalten), Burgplatz 1, 45127 Essen
END:VEVENT
BEGIN:VEVENT
DTSTAMP:20260421T102145
DTSTART;TZID=Europe/Berlin:20260511T114000
DTEND;TZID=Europe/Berlin:20260511T140000
UID:261.2D223J-20260511T114000@VHSESSEN
SUMMARY:Faszination Ton  Für Anfänger/-innen und Fortgeschrittene (261.2D223J) 
LOCATION:VHS, Raum 3.05 (Plastisches Gestalten), Burgplatz 1, 45127 Essen
END:VEVENT
BEGIN:VEVENT
DTSTAMP:20260421T102145
DTSTART;TZID=Europe/Berlin:20260518T114000
DTEND;TZID=Europe/Berlin:20260518T140000
UID:261.2D223J-20260518T114000@VHSESSEN
SUMMARY:Faszination Ton  Für Anfänger/-innen und Fortgeschrittene (261.2D223J) 
LOCATION:VHS, Raum 3.05 (Plastisches Gestalten), Burgplatz 1, 45127 Essen
END:VEVENT
BEGIN:VEVENT
DTSTAMP:20260421T102145
DTSTART;TZID=Europe/Berlin:20260601T114000
DTEND;TZID=Europe/Berlin:20260601T140000
UID:261.2D223J-20260601T114000@VHSESSEN
SUMMARY:Faszination Ton  Für Anfänger/-innen und Fortgeschrittene (261.2D223J) 
LOCATION:VHS, Raum 3.05 (Plastisches Gestalten), Burgplatz 1, 45127 Essen
END:VEVENT
BEGIN:VEVENT
DTSTAMP:20260421T102145
DTSTART;TZID=Europe/Berlin:20260608T114000
DTEND;TZID=Europe/Berlin:20260608T140000
UID:261.2D223J-20260608T114000@VHSESSEN
SUMMARY:Faszination Ton  Für Anfänger/-innen und Fortgeschrittene (261.2D223J) 
LOCATION:VHS, Raum 3.05 (Plastisches Gestalten), Burgplatz 1, 45127 Essen
END:VEVENT
BEGIN:VEVENT
DTSTAMP:20260421T102145
DTSTART;TZID=Europe/Berlin:20260615T114000
DTEND;TZID=Europe/Berlin:20260615T140000
UID:261.2D223J-20260615T114000@VHSESSEN
SUMMARY:Faszination Ton  Für Anfänger/-innen und Fortgeschrittene (261.2D223J) 
LOCATION:VHS, Raum 3.05 (Plastisches Gestalten), Burgplatz 1, 45127 Essen
END:VEVENT
END:VCALENDAR