BEGIN:VCALENDAR
VERSION:2.0
PRODID:https://www.kufer.de/kuferweb / DE
METHOD:PUBLISH
CALSCALE:GREGORIAN
X-WR-TIMEZONE:Europe/Berlin
BEGIN:VTIMEZONE
TZID:Europe/Berlin
X-LIC-LOCATION:Europe/Berlin
BEGIN:DAYLIGHT
TZOFFSETFROM:+0100
TZOFFSETTO:+0200
TZNAME:CEST
DTSTART:19700329T020000
RRULE:FREQ=YEARLY;INTERVAL=1;BYDAY=-1SU;BYMONTH=3
END:DAYLIGHT
BEGIN:STANDARD
TZOFFSETFROM:+0200
TZOFFSETTO:+0100
TZNAME:CET
DTSTART:19701025T030000
RRULE:FREQ=YEARLY;INTERVAL=1;BYDAY=-1SU;BYMONTH=10
END:STANDARD
END:VTIMEZONE
BEGIN:VEVENT
DTSTAMP:20260420T114954
DTSTART;TZID=Europe/Berlin:20260225T110000
DTEND;TZID=Europe/Berlin:20260225T140000
UID:261.2F229R-20260225T110000@VHSESSEN
SUMMARY:Von Konkret bis Abstrakt durch Farbe, Form und Fantasie Malkurs für Anfänger/-innen und Fortgeschrittene (261.2F229R) 
LOCATION:VHS im Kulturforum, Raum 2.05 (Atelier), Dreiringstr. 7, 45276 Essen
END:VEVENT
BEGIN:VEVENT
DTSTAMP:20260420T114954
DTSTART;TZID=Europe/Berlin:20260304T110000
DTEND;TZID=Europe/Berlin:20260304T140000
UID:261.2F229R-20260304T110000@VHSESSEN
SUMMARY:Von Konkret bis Abstrakt durch Farbe, Form und Fantasie Malkurs für Anfänger/-innen und Fortgeschrittene (261.2F229R) 
LOCATION:VHS im Kulturforum, Raum 2.05 (Atelier), Dreiringstr. 7, 45276 Essen
END:VEVENT
BEGIN:VEVENT
DTSTAMP:20260420T114954
DTSTART;TZID=Europe/Berlin:20260311T110000
DTEND;TZID=Europe/Berlin:20260311T140000
UID:261.2F229R-20260311T110000@VHSESSEN
SUMMARY:Von Konkret bis Abstrakt durch Farbe, Form und Fantasie Malkurs für Anfänger/-innen und Fortgeschrittene (261.2F229R) 
LOCATION:VHS im Kulturforum, Raum 2.05 (Atelier), Dreiringstr. 7, 45276 Essen
END:VEVENT
BEGIN:VEVENT
DTSTAMP:20260420T114954
DTSTART;TZID=Europe/Berlin:20260318T110000
DTEND;TZID=Europe/Berlin:20260318T140000
UID:261.2F229R-20260318T110000@VHSESSEN
SUMMARY:Von Konkret bis Abstrakt durch Farbe, Form und Fantasie Malkurs für Anfänger/-innen und Fortgeschrittene (261.2F229R) 
LOCATION:VHS im Kulturforum, Raum 2.05 (Atelier), Dreiringstr. 7, 45276 Essen
END:VEVENT
BEGIN:VEVENT
DTSTAMP:20260420T114954
DTSTART;TZID=Europe/Berlin:20260325T110000
DTEND;TZID=Europe/Berlin:20260325T140000
UID:261.2F229R-20260325T110000@VHSESSEN
SUMMARY:Von Konkret bis Abstrakt durch Farbe, Form und Fantasie Malkurs für Anfänger/-innen und Fortgeschrittene (261.2F229R) 
LOCATION:VHS im Kulturforum, Raum 2.05 (Atelier), Dreiringstr. 7, 45276 Essen
END:VEVENT
BEGIN:VEVENT
DTSTAMP:20260420T114954
DTSTART;TZID=Europe/Berlin:20260415T110000
DTEND;TZID=Europe/Berlin:20260415T140000
UID:261.2F229R-20260415T110000@VHSESSEN
SUMMARY:Von Konkret bis Abstrakt durch Farbe, Form und Fantasie Malkurs für Anfänger/-innen und Fortgeschrittene (261.2F229R) 
LOCATION:VHS im Kulturforum, Raum 2.05 (Atelier), Dreiringstr. 7, 45276 Essen
END:VEVENT
BEGIN:VEVENT
DTSTAMP:20260420T114954
DTSTART;TZID=Europe/Berlin:20260422T110000
DTEND;TZID=Europe/Berlin:20260422T140000
UID:261.2F229R-20260422T110000@VHSESSEN
SUMMARY:Von Konkret bis Abstrakt durch Farbe, Form und Fantasie Malkurs für Anfänger/-innen und Fortgeschrittene (261.2F229R) 
LOCATION:VHS im Kulturforum, Raum 2.05 (Atelier), Dreiringstr. 7, 45276 Essen
END:VEVENT
BEGIN:VEVENT
DTSTAMP:20260420T114954
DTSTART;TZID=Europe/Berlin:20260429T110000
DTEND;TZID=Europe/Berlin:20260429T140000
UID:261.2F229R-20260429T110000@VHSESSEN
SUMMARY:Von Konkret bis Abstrakt durch Farbe, Form und Fantasie Malkurs für Anfänger/-innen und Fortgeschrittene (261.2F229R) 
LOCATION:VHS im Kulturforum, Raum 2.05 (Atelier), Dreiringstr. 7, 45276 Essen
END:VEVENT
BEGIN:VEVENT
DTSTAMP:20260420T114954
DTSTART;TZID=Europe/Berlin:20260506T110000
DTEND;TZID=Europe/Berlin:20260506T140000
UID:261.2F229R-20260506T110000@VHSESSEN
SUMMARY:Von Konkret bis Abstrakt durch Farbe, Form und Fantasie Malkurs für Anfänger/-innen und Fortgeschrittene (261.2F229R) 
LOCATION:VHS im Kulturforum, Raum 2.05 (Atelier), Dreiringstr. 7, 45276 Essen
END:VEVENT
BEGIN:VEVENT
DTSTAMP:20260420T114954
DTSTART;TZID=Europe/Berlin:20260513T110000
DTEND;TZID=Europe/Berlin:20260513T140000
UID:261.2F229R-20260513T110000@VHSESSEN
SUMMARY:Von Konkret bis Abstrakt durch Farbe, Form und Fantasie Malkurs für Anfänger/-innen und Fortgeschrittene (261.2F229R) 
LOCATION:VHS im Kulturforum, Raum 2.05 (Atelier), Dreiringstr. 7, 45276 Essen
END:VEVENT
BEGIN:VEVENT
DTSTAMP:20260420T114954
DTSTART;TZID=Europe/Berlin:20260520T110000
DTEND;TZID=Europe/Berlin:20260520T140000
UID:261.2F229R-20260520T110000@VHSESSEN
SUMMARY:Von Konkret bis Abstrakt durch Farbe, Form und Fantasie Malkurs für Anfänger/-innen und Fortgeschrittene (261.2F229R) 
LOCATION:VHS im Kulturforum, Raum 2.05 (Atelier), Dreiringstr. 7, 45276 Essen
END:VEVENT
BEGIN:VEVENT
DTSTAMP:20260420T114954
DTSTART;TZID=Europe/Berlin:20260527T110000
DTEND;TZID=Europe/Berlin:20260527T140000
UID:261.2F229R-20260527T110000@VHSESSEN
SUMMARY:Von Konkret bis Abstrakt durch Farbe, Form und Fantasie Malkurs für Anfänger/-innen und Fortgeschrittene (261.2F229R) 
LOCATION:VHS im Kulturforum, Raum 2.05 (Atelier), Dreiringstr. 7, 45276 Essen
END:VEVENT
BEGIN:VEVENT
DTSTAMP:20260420T114954
DTSTART;TZID=Europe/Berlin:20260603T110000
DTEND;TZID=Europe/Berlin:20260603T140000
UID:261.2F229R-20260603T110000@VHSESSEN
SUMMARY:Von Konkret bis Abstrakt durch Farbe, Form und Fantasie Malkurs für Anfänger/-innen und Fortgeschrittene (261.2F229R) 
LOCATION:VHS im Kulturforum, Raum 2.05 (Atelier), Dreiringstr. 7, 45276 Essen
END:VEVENT
BEGIN:VEVENT
DTSTAMP:20260420T114954
DTSTART;TZID=Europe/Berlin:20260610T110000
DTEND;TZID=Europe/Berlin:20260610T140000
UID:261.2F229R-20260610T110000@VHSESSEN
SUMMARY:Von Konkret bis Abstrakt durch Farbe, Form und Fantasie Malkurs für Anfänger/-innen und Fortgeschrittene (261.2F229R) 
LOCATION:VHS im Kulturforum, Raum 2.05 (Atelier), Dreiringstr. 7, 45276 Essen
END:VEVENT
BEGIN:VEVENT
DTSTAMP:20260420T114954
DTSTART;TZID=Europe/Berlin:20260617T110000
DTEND;TZID=Europe/Berlin:20260617T140000
UID:261.2F229R-20260617T110000@VHSESSEN
SUMMARY:Von Konkret bis Abstrakt durch Farbe, Form und Fantasie Malkurs für Anfänger/-innen und Fortgeschrittene (261.2F229R) 
LOCATION:VHS im Kulturforum, Raum 2.05 (Atelier), Dreiringstr. 7, 45276 Essen
END:VEVENT
END:VCALENDAR