BEGIN:VCALENDAR
VERSION:2.0
PRODID:https://www.kufer.de/kuferweb / DE
METHOD:PUBLISH
CALSCALE:GREGORIAN
X-WR-TIMEZONE:Europe/Berlin
BEGIN:VTIMEZONE
TZID:Europe/Berlin
X-LIC-LOCATION:Europe/Berlin
BEGIN:DAYLIGHT
TZOFFSETFROM:+0100
TZOFFSETTO:+0200
TZNAME:CEST
DTSTART:19700329T020000
RRULE:FREQ=YEARLY;INTERVAL=1;BYDAY=-1SU;BYMONTH=3
END:DAYLIGHT
BEGIN:STANDARD
TZOFFSETFROM:+0200
TZOFFSETTO:+0100
TZNAME:CET
DTSTART:19701025T030000
RRULE:FREQ=YEARLY;INTERVAL=1;BYDAY=-1SU;BYMONTH=10
END:STANDARD
END:VTIMEZONE
BEGIN:VEVENT
DTSTAMP:20260424T105113
DTSTART;TZID=Europe/Berlin:20260304T183000
DTEND;TZID=Europe/Berlin:20260304T214000
UID:261.2F256R-20260304T183000@VHSESSEN
SUMMARY:Acrylmalerei  – für Anfänger/innen und Fortgeschrittene (261.2F256R) 
LOCATION:VHS im Kulturforum, Raum 2.05 (Atelier), Dreiringstr. 7, 45276 Essen
END:VEVENT
BEGIN:VEVENT
DTSTAMP:20260424T105113
DTSTART;TZID=Europe/Berlin:20260311T183000
DTEND;TZID=Europe/Berlin:20260311T214000
UID:261.2F256R-20260311T183000@VHSESSEN
SUMMARY:Acrylmalerei  – für Anfänger/innen und Fortgeschrittene (261.2F256R) 
LOCATION:VHS im Kulturforum, Raum 2.05 (Atelier), Dreiringstr. 7, 45276 Essen
END:VEVENT
BEGIN:VEVENT
DTSTAMP:20260424T105113
DTSTART;TZID=Europe/Berlin:20260318T183000
DTEND;TZID=Europe/Berlin:20260318T214000
UID:261.2F256R-20260318T183000@VHSESSEN
SUMMARY:Acrylmalerei  – für Anfänger/innen und Fortgeschrittene (261.2F256R) 
LOCATION:VHS im Kulturforum, Raum 2.05 (Atelier), Dreiringstr. 7, 45276 Essen
END:VEVENT
BEGIN:VEVENT
DTSTAMP:20260424T105113
DTSTART;TZID=Europe/Berlin:20260325T183000
DTEND;TZID=Europe/Berlin:20260325T214000
UID:261.2F256R-20260325T183000@VHSESSEN
SUMMARY:Acrylmalerei  – für Anfänger/innen und Fortgeschrittene (261.2F256R) 
LOCATION:VHS im Kulturforum, Raum 2.05 (Atelier), Dreiringstr. 7, 45276 Essen
END:VEVENT
BEGIN:VEVENT
DTSTAMP:20260424T105113
DTSTART;TZID=Europe/Berlin:20260415T183000
DTEND;TZID=Europe/Berlin:20260415T214000
UID:261.2F256R-20260415T183000@VHSESSEN
SUMMARY:Acrylmalerei  – für Anfänger/innen und Fortgeschrittene (261.2F256R) 
LOCATION:VHS im Kulturforum, Raum 2.05 (Atelier), Dreiringstr. 7, 45276 Essen
END:VEVENT
BEGIN:VEVENT
DTSTAMP:20260424T105113
DTSTART;TZID=Europe/Berlin:20260422T183000
DTEND;TZID=Europe/Berlin:20260422T214000
UID:261.2F256R-20260422T183000@VHSESSEN
SUMMARY:Acrylmalerei  – für Anfänger/innen und Fortgeschrittene (261.2F256R) 
LOCATION:VHS im Kulturforum, Raum 2.05 (Atelier), Dreiringstr. 7, 45276 Essen
END:VEVENT
BEGIN:VEVENT
DTSTAMP:20260424T105113
DTSTART;TZID=Europe/Berlin:20260429T183000
DTEND;TZID=Europe/Berlin:20260429T214000
UID:261.2F256R-20260429T183000@VHSESSEN
SUMMARY:Acrylmalerei  – für Anfänger/innen und Fortgeschrittene (261.2F256R) 
LOCATION:VHS im Kulturforum, Raum 2.05 (Atelier), Dreiringstr. 7, 45276 Essen
END:VEVENT
BEGIN:VEVENT
DTSTAMP:20260424T105113
DTSTART;TZID=Europe/Berlin:20260506T183000
DTEND;TZID=Europe/Berlin:20260506T214000
UID:261.2F256R-20260506T183000@VHSESSEN
SUMMARY:Acrylmalerei  – für Anfänger/innen und Fortgeschrittene (261.2F256R) 
LOCATION:VHS im Kulturforum, Raum 2.05 (Atelier), Dreiringstr. 7, 45276 Essen
END:VEVENT
BEGIN:VEVENT
DTSTAMP:20260424T105113
DTSTART;TZID=Europe/Berlin:20260513T183000
DTEND;TZID=Europe/Berlin:20260513T214000
UID:261.2F256R-20260513T183000@VHSESSEN
SUMMARY:Acrylmalerei  – für Anfänger/innen und Fortgeschrittene (261.2F256R) 
LOCATION:VHS im Kulturforum, Raum 2.05 (Atelier), Dreiringstr. 7, 45276 Essen
END:VEVENT
BEGIN:VEVENT
DTSTAMP:20260424T105113
DTSTART;TZID=Europe/Berlin:20260520T183000
DTEND;TZID=Europe/Berlin:20260520T214000
UID:261.2F256R-20260520T183000@VHSESSEN
SUMMARY:Acrylmalerei  – für Anfänger/innen und Fortgeschrittene (261.2F256R) 
LOCATION:VHS im Kulturforum, Raum 2.05 (Atelier), Dreiringstr. 7, 45276 Essen
END:VEVENT
BEGIN:VEVENT
DTSTAMP:20260424T105113
DTSTART;TZID=Europe/Berlin:20260527T183000
DTEND;TZID=Europe/Berlin:20260527T214000
UID:261.2F256R-20260527T183000@VHSESSEN
SUMMARY:Acrylmalerei  – für Anfänger/innen und Fortgeschrittene (261.2F256R) 
LOCATION:VHS im Kulturforum, Raum 2.05 (Atelier), Dreiringstr. 7, 45276 Essen
END:VEVENT
BEGIN:VEVENT
DTSTAMP:20260424T105113
DTSTART;TZID=Europe/Berlin:20260603T183000
DTEND;TZID=Europe/Berlin:20260603T214000
UID:261.2F256R-20260603T183000@VHSESSEN
SUMMARY:Acrylmalerei  – für Anfänger/innen und Fortgeschrittene (261.2F256R) 
LOCATION:VHS im Kulturforum, Raum 2.05 (Atelier), Dreiringstr. 7, 45276 Essen
END:VEVENT
BEGIN:VEVENT
DTSTAMP:20260424T105113
DTSTART;TZID=Europe/Berlin:20260610T183000
DTEND;TZID=Europe/Berlin:20260610T214000
UID:261.2F256R-20260610T183000@VHSESSEN
SUMMARY:Acrylmalerei  – für Anfänger/innen und Fortgeschrittene (261.2F256R) 
LOCATION:VHS im Kulturforum, Raum 2.05 (Atelier), Dreiringstr. 7, 45276 Essen
END:VEVENT
END:VCALENDAR