BEGIN:VCALENDAR
VERSION:2.0
PRODID:https://www.kufer.de/kuferweb / DE
METHOD:PUBLISH
CALSCALE:GREGORIAN
X-WR-TIMEZONE:Europe/Berlin
BEGIN:VTIMEZONE
TZID:Europe/Berlin
X-LIC-LOCATION:Europe/Berlin
BEGIN:DAYLIGHT
TZOFFSETFROM:+0100
TZOFFSETTO:+0200
TZNAME:CEST
DTSTART:19700329T020000
RRULE:FREQ=YEARLY;INTERVAL=1;BYDAY=-1SU;BYMONTH=3
END:DAYLIGHT
BEGIN:STANDARD
TZOFFSETFROM:+0200
TZOFFSETTO:+0100
TZNAME:CET
DTSTART:19701025T030000
RRULE:FREQ=YEARLY;INTERVAL=1;BYDAY=-1SU;BYMONTH=10
END:STANDARD
END:VTIMEZONE
BEGIN:VEVENT
DTSTAMP:20260420T132920
DTSTART;TZID=Europe/Berlin:20260227T140000
DTEND;TZID=Europe/Berlin:20260227T170000
UID:261.2F265R-20260227T140000@VHSESSEN
SUMMARY:Malen mit Ölfarben – Für Anfänger/-innen und Fortgeschrittene (261.2F265R) 
LOCATION:VHS im Kulturforum, Raum 2.05 (Atelier), Dreiringstr. 7, 45276 Essen
END:VEVENT
BEGIN:VEVENT
DTSTAMP:20260420T132920
DTSTART;TZID=Europe/Berlin:20260306T140000
DTEND;TZID=Europe/Berlin:20260306T170000
UID:261.2F265R-20260306T140000@VHSESSEN
SUMMARY:Malen mit Ölfarben – Für Anfänger/-innen und Fortgeschrittene (261.2F265R) 
LOCATION:VHS im Kulturforum, Raum 2.05 (Atelier), Dreiringstr. 7, 45276 Essen
END:VEVENT
BEGIN:VEVENT
DTSTAMP:20260420T132920
DTSTART;TZID=Europe/Berlin:20260313T140000
DTEND;TZID=Europe/Berlin:20260313T170000
UID:261.2F265R-20260313T140000@VHSESSEN
SUMMARY:Malen mit Ölfarben – Für Anfänger/-innen und Fortgeschrittene (261.2F265R) 
LOCATION:VHS im Kulturforum, Raum 2.05 (Atelier), Dreiringstr. 7, 45276 Essen
END:VEVENT
BEGIN:VEVENT
DTSTAMP:20260420T132920
DTSTART;TZID=Europe/Berlin:20260320T140000
DTEND;TZID=Europe/Berlin:20260320T170000
UID:261.2F265R-20260320T140000@VHSESSEN
SUMMARY:Malen mit Ölfarben – Für Anfänger/-innen und Fortgeschrittene (261.2F265R) 
LOCATION:VHS im Kulturforum, Raum 2.05 (Atelier), Dreiringstr. 7, 45276 Essen
END:VEVENT
BEGIN:VEVENT
DTSTAMP:20260420T132920
DTSTART;TZID=Europe/Berlin:20260327T140000
DTEND;TZID=Europe/Berlin:20260327T170000
UID:261.2F265R-20260327T140000@VHSESSEN
SUMMARY:Malen mit Ölfarben – Für Anfänger/-innen und Fortgeschrittene (261.2F265R) 
LOCATION:VHS im Kulturforum, Raum 2.05 (Atelier), Dreiringstr. 7, 45276 Essen
END:VEVENT
BEGIN:VEVENT
DTSTAMP:20260420T132920
DTSTART;TZID=Europe/Berlin:20260417T140000
DTEND;TZID=Europe/Berlin:20260417T170000
UID:261.2F265R-20260417T140000@VHSESSEN
SUMMARY:Malen mit Ölfarben – Für Anfänger/-innen und Fortgeschrittene (261.2F265R) 
LOCATION:VHS im Kulturforum, Raum 2.05 (Atelier), Dreiringstr. 7, 45276 Essen
END:VEVENT
BEGIN:VEVENT
DTSTAMP:20260420T132920
DTSTART;TZID=Europe/Berlin:20260424T140000
DTEND;TZID=Europe/Berlin:20260424T170000
UID:261.2F265R-20260424T140000@VHSESSEN
SUMMARY:Malen mit Ölfarben – Für Anfänger/-innen und Fortgeschrittene (261.2F265R) 
LOCATION:VHS im Kulturforum, Raum 2.05 (Atelier), Dreiringstr. 7, 45276 Essen
END:VEVENT
BEGIN:VEVENT
DTSTAMP:20260420T132920
DTSTART;TZID=Europe/Berlin:20260508T140000
DTEND;TZID=Europe/Berlin:20260508T170000
UID:261.2F265R-20260508T140000@VHSESSEN
SUMMARY:Malen mit Ölfarben – Für Anfänger/-innen und Fortgeschrittene (261.2F265R) 
LOCATION:VHS im Kulturforum, Raum 2.05 (Atelier), Dreiringstr. 7, 45276 Essen
END:VEVENT
BEGIN:VEVENT
DTSTAMP:20260420T132920
DTSTART;TZID=Europe/Berlin:20260515T140000
DTEND;TZID=Europe/Berlin:20260515T170000
UID:261.2F265R-20260515T140000@VHSESSEN
SUMMARY:Malen mit Ölfarben – Für Anfänger/-innen und Fortgeschrittene (261.2F265R) 
LOCATION:VHS im Kulturforum, Raum 2.05 (Atelier), Dreiringstr. 7, 45276 Essen
END:VEVENT
BEGIN:VEVENT
DTSTAMP:20260420T132920
DTSTART;TZID=Europe/Berlin:20260522T140000
DTEND;TZID=Europe/Berlin:20260522T170000
UID:261.2F265R-20260522T140000@VHSESSEN
SUMMARY:Malen mit Ölfarben – Für Anfänger/-innen und Fortgeschrittene (261.2F265R) 
LOCATION:VHS im Kulturforum, Raum 2.05 (Atelier), Dreiringstr. 7, 45276 Essen
END:VEVENT
BEGIN:VEVENT
DTSTAMP:20260420T132920
DTSTART;TZID=Europe/Berlin:20260529T140000
DTEND;TZID=Europe/Berlin:20260529T170000
UID:261.2F265R-20260529T140000@VHSESSEN
SUMMARY:Malen mit Ölfarben – Für Anfänger/-innen und Fortgeschrittene (261.2F265R) 
LOCATION:VHS im Kulturforum, Raum 2.05 (Atelier), Dreiringstr. 7, 45276 Essen
END:VEVENT
BEGIN:VEVENT
DTSTAMP:20260420T132920
DTSTART;TZID=Europe/Berlin:20260605T140000
DTEND;TZID=Europe/Berlin:20260605T170000
UID:261.2F265R-20260605T140000@VHSESSEN
SUMMARY:Malen mit Ölfarben – Für Anfänger/-innen und Fortgeschrittene (261.2F265R) 
LOCATION:VHS im Kulturforum, Raum 2.05 (Atelier), Dreiringstr. 7, 45276 Essen
END:VEVENT
BEGIN:VEVENT
DTSTAMP:20260420T132920
DTSTART;TZID=Europe/Berlin:20260612T140000
DTEND;TZID=Europe/Berlin:20260612T170000
UID:261.2F265R-20260612T140000@VHSESSEN
SUMMARY:Malen mit Ölfarben – Für Anfänger/-innen und Fortgeschrittene (261.2F265R) 
LOCATION:VHS im Kulturforum, Raum 2.05 (Atelier), Dreiringstr. 7, 45276 Essen
END:VEVENT
BEGIN:VEVENT
DTSTAMP:20260420T132920
DTSTART;TZID=Europe/Berlin:20260619T140000
DTEND;TZID=Europe/Berlin:20260619T170000
UID:261.2F265R-20260619T140000@VHSESSEN
SUMMARY:Malen mit Ölfarben – Für Anfänger/-innen und Fortgeschrittene (261.2F265R) 
LOCATION:VHS im Kulturforum, Raum 2.05 (Atelier), Dreiringstr. 7, 45276 Essen
END:VEVENT
BEGIN:VEVENT
DTSTAMP:20260420T132920
DTSTART;TZID=Europe/Berlin:20260626T140000
DTEND;TZID=Europe/Berlin:20260626T170000
UID:261.2F265R-20260626T140000@VHSESSEN
SUMMARY:Malen mit Ölfarben – Für Anfänger/-innen und Fortgeschrittene (261.2F265R) 
LOCATION:VHS im Kulturforum, Raum 2.05 (Atelier), Dreiringstr. 7, 45276 Essen
END:VEVENT
END:VCALENDAR