BEGIN:VCALENDAR
VERSION:2.0
PRODID:https://www.kufer.de/kuferweb / DE
METHOD:PUBLISH
CALSCALE:GREGORIAN
X-WR-TIMEZONE:Europe/Berlin
BEGIN:VTIMEZONE
TZID:Europe/Berlin
X-LIC-LOCATION:Europe/Berlin
BEGIN:DAYLIGHT
TZOFFSETFROM:+0100
TZOFFSETTO:+0200
TZNAME:CEST
DTSTART:19700329T020000
RRULE:FREQ=YEARLY;INTERVAL=1;BYDAY=-1SU;BYMONTH=3
END:DAYLIGHT
BEGIN:STANDARD
TZOFFSETFROM:+0200
TZOFFSETTO:+0100
TZNAME:CET
DTSTART:19701025T030000
RRULE:FREQ=YEARLY;INTERVAL=1;BYDAY=-1SU;BYMONTH=10
END:STANDARD
END:VTIMEZONE
BEGIN:VEVENT
DTSTAMP:20260421T100314
DTSTART;TZID=Europe/Berlin:20260220T183000
DTEND;TZID=Europe/Berlin:20260220T200000
UID:261.2H132G-20260220T183000@VHSESSEN
SUMMARY:Gesellschaftstanz/Paartanz Mittelstufe (261.2H132G) 
LOCATION:VHS,  Raum U.01 (Großer Saal), Burgplatz 1, 45127 Essen
END:VEVENT
BEGIN:VEVENT
DTSTAMP:20260421T100314
DTSTART;TZID=Europe/Berlin:20260227T183000
DTEND;TZID=Europe/Berlin:20260227T200000
UID:261.2H132G-20260227T183000@VHSESSEN
SUMMARY:Gesellschaftstanz/Paartanz Mittelstufe (261.2H132G) 
LOCATION:VHS,  Raum U.01 (Großer Saal), Burgplatz 1, 45127 Essen
END:VEVENT
BEGIN:VEVENT
DTSTAMP:20260421T100314
DTSTART;TZID=Europe/Berlin:20260306T183000
DTEND;TZID=Europe/Berlin:20260306T200000
UID:261.2H132G-20260306T183000@VHSESSEN
SUMMARY:Gesellschaftstanz/Paartanz Mittelstufe (261.2H132G) 
LOCATION:VHS,  Raum U.01 (Großer Saal), Burgplatz 1, 45127 Essen
END:VEVENT
BEGIN:VEVENT
DTSTAMP:20260421T100314
DTSTART;TZID=Europe/Berlin:20260313T183000
DTEND;TZID=Europe/Berlin:20260313T200000
UID:261.2H132G-20260313T183000@VHSESSEN
SUMMARY:Gesellschaftstanz/Paartanz Mittelstufe (261.2H132G) 
LOCATION:VHS,  Raum U.01 (Großer Saal), Burgplatz 1, 45127 Essen
END:VEVENT
BEGIN:VEVENT
DTSTAMP:20260421T100314
DTSTART;TZID=Europe/Berlin:20260320T183000
DTEND;TZID=Europe/Berlin:20260320T200000
UID:261.2H132G-20260320T183000@VHSESSEN
SUMMARY:Gesellschaftstanz/Paartanz Mittelstufe (261.2H132G) 
LOCATION:VHS,  Raum U.01 (Großer Saal), Burgplatz 1, 45127 Essen
END:VEVENT
BEGIN:VEVENT
DTSTAMP:20260421T100314
DTSTART;TZID=Europe/Berlin:20260327T183000
DTEND;TZID=Europe/Berlin:20260327T200000
UID:261.2H132G-20260327T183000@VHSESSEN
SUMMARY:Gesellschaftstanz/Paartanz Mittelstufe (261.2H132G) 
LOCATION:VHS,  Raum U.01 (Großer Saal), Burgplatz 1, 45127 Essen
END:VEVENT
BEGIN:VEVENT
DTSTAMP:20260421T100314
DTSTART;TZID=Europe/Berlin:20260417T183000
DTEND;TZID=Europe/Berlin:20260417T200000
UID:261.2H132G-20260417T183000@VHSESSEN
SUMMARY:Gesellschaftstanz/Paartanz Mittelstufe (261.2H132G) 
LOCATION:VHS,  Raum U.01 (Großer Saal), Burgplatz 1, 45127 Essen
END:VEVENT
BEGIN:VEVENT
DTSTAMP:20260421T100314
DTSTART;TZID=Europe/Berlin:20260424T183000
DTEND;TZID=Europe/Berlin:20260424T200000
UID:261.2H132G-20260424T183000@VHSESSEN
SUMMARY:Gesellschaftstanz/Paartanz Mittelstufe (261.2H132G) 
LOCATION:VHS,  Raum U.01 (Großer Saal), Burgplatz 1, 45127 Essen
END:VEVENT
BEGIN:VEVENT
DTSTAMP:20260421T100314
DTSTART;TZID=Europe/Berlin:20260508T183000
DTEND;TZID=Europe/Berlin:20260508T200000
UID:261.2H132G-20260508T183000@VHSESSEN
SUMMARY:Gesellschaftstanz/Paartanz Mittelstufe (261.2H132G) 
LOCATION:VHS,  Raum U.01 (Großer Saal), Burgplatz 1, 45127 Essen
END:VEVENT
BEGIN:VEVENT
DTSTAMP:20260421T100314
DTSTART;TZID=Europe/Berlin:20260515T183000
DTEND;TZID=Europe/Berlin:20260515T200000
UID:261.2H132G-20260515T183000@VHSESSEN
SUMMARY:Gesellschaftstanz/Paartanz Mittelstufe (261.2H132G) 
LOCATION:VHS,  Raum U.01 (Großer Saal), Burgplatz 1, 45127 Essen
END:VEVENT
BEGIN:VEVENT
DTSTAMP:20260421T100314
DTSTART;TZID=Europe/Berlin:20260522T183000
DTEND;TZID=Europe/Berlin:20260522T200000
UID:261.2H132G-20260522T183000@VHSESSEN
SUMMARY:Gesellschaftstanz/Paartanz Mittelstufe (261.2H132G) 
LOCATION:VHS,  Raum U.01 (Großer Saal), Burgplatz 1, 45127 Essen
END:VEVENT
BEGIN:VEVENT
DTSTAMP:20260421T100314
DTSTART;TZID=Europe/Berlin:20260529T183000
DTEND;TZID=Europe/Berlin:20260529T200000
UID:261.2H132G-20260529T183000@VHSESSEN
SUMMARY:Gesellschaftstanz/Paartanz Mittelstufe (261.2H132G) 
LOCATION:VHS,  Raum U.01 (Großer Saal), Burgplatz 1, 45127 Essen
END:VEVENT
BEGIN:VEVENT
DTSTAMP:20260421T100314
DTSTART;TZID=Europe/Berlin:20260605T183000
DTEND;TZID=Europe/Berlin:20260605T200000
UID:261.2H132G-20260605T183000@VHSESSEN
SUMMARY:Gesellschaftstanz/Paartanz Mittelstufe (261.2H132G) 
LOCATION:VHS,  Raum U.01 (Großer Saal), Burgplatz 1, 45127 Essen
END:VEVENT
BEGIN:VEVENT
DTSTAMP:20260421T100314
DTSTART;TZID=Europe/Berlin:20260612T183000
DTEND;TZID=Europe/Berlin:20260612T200000
UID:261.2H132G-20260612T183000@VHSESSEN
SUMMARY:Gesellschaftstanz/Paartanz Mittelstufe (261.2H132G) 
LOCATION:VHS,  Raum U.01 (Großer Saal), Burgplatz 1, 45127 Essen
END:VEVENT
BEGIN:VEVENT
DTSTAMP:20260421T100314
DTSTART;TZID=Europe/Berlin:20260619T183000
DTEND;TZID=Europe/Berlin:20260619T200000
UID:261.2H132G-20260619T183000@VHSESSEN
SUMMARY:Gesellschaftstanz/Paartanz Mittelstufe (261.2H132G) 
LOCATION:VHS,  Raum U.01 (Großer Saal), Burgplatz 1, 45127 Essen
END:VEVENT
END:VCALENDAR