BEGIN:VCALENDAR
VERSION:2.0
PRODID:https://www.kufer.de/kuferweb / DE
METHOD:PUBLISH
CALSCALE:GREGORIAN
X-WR-TIMEZONE:Europe/Berlin
BEGIN:VTIMEZONE
TZID:Europe/Berlin
X-LIC-LOCATION:Europe/Berlin
BEGIN:DAYLIGHT
TZOFFSETFROM:+0100
TZOFFSETTO:+0200
TZNAME:CEST
DTSTART:19700329T020000
RRULE:FREQ=YEARLY;INTERVAL=1;BYDAY=-1SU;BYMONTH=3
END:DAYLIGHT
BEGIN:STANDARD
TZOFFSETFROM:+0200
TZOFFSETTO:+0100
TZNAME:CET
DTSTART:19701025T030000
RRULE:FREQ=YEARLY;INTERVAL=1;BYDAY=-1SU;BYMONTH=10
END:STANDARD
END:VTIMEZONE
BEGIN:VEVENT
DTSTAMP:20260422T044530
DTSTART;TZID=Europe/Berlin:20260704T093000
DTEND;TZID=Europe/Berlin:20260704T124500
UID:261.2J175G-20260704T093000@VHSESSEN
SUMMARY:Literatur lebendig vortragen IV: Stimmklang und Intonation    (261.2J175G) 
LOCATION:VHS im Kulturforum, Raum 1.11 (Saal), Dreiringstr. 7, 45276 Essen
END:VEVENT
BEGIN:VEVENT
DTSTAMP:20260422T044530
DTSTART;TZID=Europe/Berlin:20260704T143000
DTEND;TZID=Europe/Berlin:20260704T170000
UID:261.2J175G-20260704T143000@VHSESSEN
SUMMARY:Literatur lebendig vortragen IV: Stimmklang und Intonation    (261.2J175G) 
LOCATION:VHS im Kulturforum, Raum E.10, Dreiringstr. 7, 45276 Essen
END:VEVENT
BEGIN:VEVENT
DTSTAMP:20260422T044530
DTSTART;TZID=Europe/Berlin:20260705T110000
DTEND;TZID=Europe/Berlin:20260705T161500
UID:261.2J175G-20260705T110000@VHSESSEN
SUMMARY:Literatur lebendig vortragen IV: Stimmklang und Intonation    (261.2J175G) 
LOCATION:VHS im Kulturforum, Raum 1.10, Dreiringstr. 7, 45276 Essen
END:VEVENT
END:VCALENDAR