BEGIN:VCALENDAR
VERSION:2.0
PRODID:https://www.kufer.de/kuferweb / DE
METHOD:PUBLISH
CALSCALE:GREGORIAN
X-WR-TIMEZONE:Europe/Berlin
BEGIN:VTIMEZONE
TZID:Europe/Berlin
X-LIC-LOCATION:Europe/Berlin
BEGIN:DAYLIGHT
TZOFFSETFROM:+0100
TZOFFSETTO:+0200
TZNAME:CEST
DTSTART:19700329T020000
RRULE:FREQ=YEARLY;INTERVAL=1;BYDAY=-1SU;BYMONTH=3
END:DAYLIGHT
BEGIN:STANDARD
TZOFFSETFROM:+0200
TZOFFSETTO:+0100
TZNAME:CET
DTSTART:19701025T030000
RRULE:FREQ=YEARLY;INTERVAL=1;BYDAY=-1SU;BYMONTH=10
END:STANDARD
END:VTIMEZONE
BEGIN:VEVENT
DTSTAMP:20260424T104704
DTSTART;TZID=Europe/Berlin:20260529T173000
DTEND;TZID=Europe/Berlin:20260529T194500
UID:261.3A059B-20260529T173000@VHSESSEN
SUMMARY:Vertiefung: Die Reizung beim Bridge - Aufbaukurs (261.3A059B) 
LOCATION:VHS, Raum 3.17, Burgplatz 1, 45127 Essen
END:VEVENT
BEGIN:VEVENT
DTSTAMP:20260424T104704
DTSTART;TZID=Europe/Berlin:20260612T173000
DTEND;TZID=Europe/Berlin:20260612T194500
UID:261.3A059B-20260612T173000@VHSESSEN
SUMMARY:Vertiefung: Die Reizung beim Bridge - Aufbaukurs (261.3A059B) 
LOCATION:VHS, Raum 3.17, Burgplatz 1, 45127 Essen
END:VEVENT
BEGIN:VEVENT
DTSTAMP:20260424T104704
DTSTART;TZID=Europe/Berlin:20260619T173000
DTEND;TZID=Europe/Berlin:20260619T194500
UID:261.3A059B-20260619T173000@VHSESSEN
SUMMARY:Vertiefung: Die Reizung beim Bridge - Aufbaukurs (261.3A059B) 
LOCATION:VHS, Raum 3.17, Burgplatz 1, 45127 Essen
END:VEVENT
BEGIN:VEVENT
DTSTAMP:20260424T104704
DTSTART;TZID=Europe/Berlin:20260626T173000
DTEND;TZID=Europe/Berlin:20260626T194500
UID:261.3A059B-20260626T173000@VHSESSEN
SUMMARY:Vertiefung: Die Reizung beim Bridge - Aufbaukurs (261.3A059B) 
LOCATION:VHS, Raum 3.17, Burgplatz 1, 45127 Essen
END:VEVENT
BEGIN:VEVENT
DTSTAMP:20260424T104704
DTSTART;TZID=Europe/Berlin:20260904T173000
DTEND;TZID=Europe/Berlin:20260904T194500
UID:261.3A059B-20260904T173000@VHSESSEN
SUMMARY:Vertiefung: Die Reizung beim Bridge - Aufbaukurs (261.3A059B) 
LOCATION:VHS, Raum 3.17, Burgplatz 1, 45127 Essen
END:VEVENT
BEGIN:VEVENT
DTSTAMP:20260424T104704
DTSTART;TZID=Europe/Berlin:20260911T173000
DTEND;TZID=Europe/Berlin:20260911T194500
UID:261.3A059B-20260911T173000@VHSESSEN
SUMMARY:Vertiefung: Die Reizung beim Bridge - Aufbaukurs (261.3A059B) 
LOCATION:VHS, Raum 3.17, Burgplatz 1, 45127 Essen
END:VEVENT
END:VCALENDAR