BEGIN:VCALENDAR
VERSION:2.0
PRODID:https://www.kufer.de/kuferweb / DE
METHOD:PUBLISH
CALSCALE:GREGORIAN
X-WR-TIMEZONE:Europe/Berlin
BEGIN:VTIMEZONE
TZID:Europe/Berlin
X-LIC-LOCATION:Europe/Berlin
BEGIN:DAYLIGHT
TZOFFSETFROM:+0100
TZOFFSETTO:+0200
TZNAME:CEST
DTSTART:19700329T020000
RRULE:FREQ=YEARLY;INTERVAL=1;BYDAY=-1SU;BYMONTH=3
END:DAYLIGHT
BEGIN:STANDARD
TZOFFSETFROM:+0200
TZOFFSETTO:+0100
TZNAME:CET
DTSTART:19701025T030000
RRULE:FREQ=YEARLY;INTERVAL=1;BYDAY=-1SU;BYMONTH=10
END:STANDARD
END:VTIMEZONE
BEGIN:VEVENT
DTSTAMP:20260422T121445
DTSTART;TZID=Europe/Berlin:20260219T173000
DTEND;TZID=Europe/Berlin:20260219T190000
UID:261.3D137B-20260219T173000@VHSESSEN
SUMMARY:Slow-down! – Mit Yoga in den Abend (261.3D137B) 
LOCATION:VHS im Kulturforum, Raum 1.11 (Saal), Dreiringstr. 7, 45276 Essen
END:VEVENT
BEGIN:VEVENT
DTSTAMP:20260422T121445
DTSTART;TZID=Europe/Berlin:20260226T173000
DTEND;TZID=Europe/Berlin:20260226T190000
UID:261.3D137B-20260226T173000@VHSESSEN
SUMMARY:Slow-down! – Mit Yoga in den Abend (261.3D137B) 
LOCATION:VHS im Kulturforum, Raum 1.11 (Saal), Dreiringstr. 7, 45276 Essen
END:VEVENT
BEGIN:VEVENT
DTSTAMP:20260422T121445
DTSTART;TZID=Europe/Berlin:20260305T173000
DTEND;TZID=Europe/Berlin:20260305T190000
UID:261.3D137B-20260305T173000@VHSESSEN
SUMMARY:Slow-down! – Mit Yoga in den Abend (261.3D137B) 
LOCATION:VHS im Kulturforum, Raum 1.11 (Saal), Dreiringstr. 7, 45276 Essen
END:VEVENT
BEGIN:VEVENT
DTSTAMP:20260422T121445
DTSTART;TZID=Europe/Berlin:20260312T173000
DTEND;TZID=Europe/Berlin:20260312T190000
UID:261.3D137B-20260312T173000@VHSESSEN
SUMMARY:Slow-down! – Mit Yoga in den Abend (261.3D137B) 
LOCATION:VHS im Kulturforum, Raum 1.11 (Saal), Dreiringstr. 7, 45276 Essen
END:VEVENT
BEGIN:VEVENT
DTSTAMP:20260422T121445
DTSTART;TZID=Europe/Berlin:20260319T173000
DTEND;TZID=Europe/Berlin:20260319T190000
UID:261.3D137B-20260319T173000@VHSESSEN
SUMMARY:Slow-down! – Mit Yoga in den Abend (261.3D137B) 
LOCATION:VHS im Kulturforum, Raum 1.11 (Saal), Dreiringstr. 7, 45276 Essen
END:VEVENT
BEGIN:VEVENT
DTSTAMP:20260422T121445
DTSTART;TZID=Europe/Berlin:20260326T173000
DTEND;TZID=Europe/Berlin:20260326T190000
UID:261.3D137B-20260326T173000@VHSESSEN
SUMMARY:Slow-down! – Mit Yoga in den Abend (261.3D137B) 
LOCATION:VHS im Kulturforum, Raum 1.11 (Saal), Dreiringstr. 7, 45276 Essen
END:VEVENT
BEGIN:VEVENT
DTSTAMP:20260422T121445
DTSTART;TZID=Europe/Berlin:20260416T173000
DTEND;TZID=Europe/Berlin:20260416T190000
UID:261.3D137B-20260416T173000@VHSESSEN
SUMMARY:Slow-down! – Mit Yoga in den Abend (261.3D137B) 
LOCATION:VHS im Kulturforum, Raum 1.11 (Saal), Dreiringstr. 7, 45276 Essen
END:VEVENT
BEGIN:VEVENT
DTSTAMP:20260422T121445
DTSTART;TZID=Europe/Berlin:20260423T173000
DTEND;TZID=Europe/Berlin:20260423T190000
UID:261.3D137B-20260423T173000@VHSESSEN
SUMMARY:Slow-down! – Mit Yoga in den Abend (261.3D137B) 
LOCATION:VHS im Kulturforum, Raum 1.11 (Saal), Dreiringstr. 7, 45276 Essen
END:VEVENT
BEGIN:VEVENT
DTSTAMP:20260422T121445
DTSTART;TZID=Europe/Berlin:20260430T173000
DTEND;TZID=Europe/Berlin:20260430T190000
UID:261.3D137B-20260430T173000@VHSESSEN
SUMMARY:Slow-down! – Mit Yoga in den Abend (261.3D137B) 
LOCATION:VHS im Kulturforum, Raum 1.11 (Saal), Dreiringstr. 7, 45276 Essen
END:VEVENT
BEGIN:VEVENT
DTSTAMP:20260422T121445
DTSTART;TZID=Europe/Berlin:20260507T173000
DTEND;TZID=Europe/Berlin:20260507T190000
UID:261.3D137B-20260507T173000@VHSESSEN
SUMMARY:Slow-down! – Mit Yoga in den Abend (261.3D137B) 
LOCATION:VHS im Kulturforum, Raum 1.11 (Saal), Dreiringstr. 7, 45276 Essen
END:VEVENT
BEGIN:VEVENT
DTSTAMP:20260422T121445
DTSTART;TZID=Europe/Berlin:20260521T173000
DTEND;TZID=Europe/Berlin:20260521T190000
UID:261.3D137B-20260521T173000@VHSESSEN
SUMMARY:Slow-down! – Mit Yoga in den Abend (261.3D137B) 
LOCATION:VHS im Kulturforum, Raum 1.11 (Saal), Dreiringstr. 7, 45276 Essen
END:VEVENT
BEGIN:VEVENT
DTSTAMP:20260422T121445
DTSTART;TZID=Europe/Berlin:20260528T173000
DTEND;TZID=Europe/Berlin:20260528T190000
UID:261.3D137B-20260528T173000@VHSESSEN
SUMMARY:Slow-down! – Mit Yoga in den Abend (261.3D137B) 
LOCATION:VHS im Kulturforum, Raum 1.11 (Saal), Dreiringstr. 7, 45276 Essen
END:VEVENT
BEGIN:VEVENT
DTSTAMP:20260422T121445
DTSTART;TZID=Europe/Berlin:20260611T173000
DTEND;TZID=Europe/Berlin:20260611T190000
UID:261.3D137B-20260611T173000@VHSESSEN
SUMMARY:Slow-down! – Mit Yoga in den Abend (261.3D137B) 
LOCATION:VHS im Kulturforum, Raum 1.11 (Saal), Dreiringstr. 7, 45276 Essen
END:VEVENT
BEGIN:VEVENT
DTSTAMP:20260422T121445
DTSTART;TZID=Europe/Berlin:20260618T173000
DTEND;TZID=Europe/Berlin:20260618T190000
UID:261.3D137B-20260618T173000@VHSESSEN
SUMMARY:Slow-down! – Mit Yoga in den Abend (261.3D137B) 
LOCATION:VHS im Kulturforum, Raum 1.11 (Saal), Dreiringstr. 7, 45276 Essen
END:VEVENT
BEGIN:VEVENT
DTSTAMP:20260422T121445
DTSTART;TZID=Europe/Berlin:20260625T173000
DTEND;TZID=Europe/Berlin:20260625T190000
UID:261.3D137B-20260625T173000@VHSESSEN
SUMMARY:Slow-down! – Mit Yoga in den Abend (261.3D137B) 
LOCATION:VHS im Kulturforum, Raum 1.11 (Saal), Dreiringstr. 7, 45276 Essen
END:VEVENT
END:VCALENDAR