BEGIN:VCALENDAR
VERSION:2.0
PRODID:https://www.kufer.de/kuferweb / DE
METHOD:PUBLISH
CALSCALE:GREGORIAN
X-WR-TIMEZONE:Europe/Berlin
BEGIN:VTIMEZONE
TZID:Europe/Berlin
X-LIC-LOCATION:Europe/Berlin
BEGIN:DAYLIGHT
TZOFFSETFROM:+0100
TZOFFSETTO:+0200
TZNAME:CEST
DTSTART:19700329T020000
RRULE:FREQ=YEARLY;INTERVAL=1;BYDAY=-1SU;BYMONTH=3
END:DAYLIGHT
BEGIN:STANDARD
TZOFFSETFROM:+0200
TZOFFSETTO:+0100
TZNAME:CET
DTSTART:19701025T030000
RRULE:FREQ=YEARLY;INTERVAL=1;BYDAY=-1SU;BYMONTH=10
END:STANDARD
END:VTIMEZONE
BEGIN:VEVENT
DTSTAMP:20260420T011039
DTSTART;TZID=Europe/Berlin:20260217T141500
DTEND;TZID=Europe/Berlin:20260217T164000
UID:261.4E439F-20260217T141500@VHSESSEN
SUMMARY:Deutsch als Fremdsprache B1 Auffrischung (261.4E439F) 
LOCATION:VHS, Raum 3.02 (Foto), Burgplatz 1, 45127 Essen
END:VEVENT
BEGIN:VEVENT
DTSTAMP:20260420T011039
DTSTART;TZID=Europe/Berlin:20260220T141500
DTEND;TZID=Europe/Berlin:20260220T164000
UID:261.4E439F-20260220T141500@VHSESSEN
SUMMARY:Deutsch als Fremdsprache B1 Auffrischung (261.4E439F) 
LOCATION:VHS, Raum 3.02 (Foto), Burgplatz 1, 45127 Essen
END:VEVENT
BEGIN:VEVENT
DTSTAMP:20260420T011039
DTSTART;TZID=Europe/Berlin:20260223T141500
DTEND;TZID=Europe/Berlin:20260223T164000
UID:261.4E439F-20260223T141500@VHSESSEN
SUMMARY:Deutsch als Fremdsprache B1 Auffrischung (261.4E439F) 
LOCATION:VHS, Raum 3.02 (Foto), Burgplatz 1, 45127 Essen
END:VEVENT
BEGIN:VEVENT
DTSTAMP:20260420T011039
DTSTART;TZID=Europe/Berlin:20260224T141500
DTEND;TZID=Europe/Berlin:20260224T164000
UID:261.4E439F-20260224T141500@VHSESSEN
SUMMARY:Deutsch als Fremdsprache B1 Auffrischung (261.4E439F) 
LOCATION:VHS, Raum 3.02 (Foto), Burgplatz 1, 45127 Essen
END:VEVENT
BEGIN:VEVENT
DTSTAMP:20260420T011039
DTSTART;TZID=Europe/Berlin:20260227T141500
DTEND;TZID=Europe/Berlin:20260227T164000
UID:261.4E439F-20260227T141500@VHSESSEN
SUMMARY:Deutsch als Fremdsprache B1 Auffrischung (261.4E439F) 
LOCATION:VHS, Raum 3.02 (Foto), Burgplatz 1, 45127 Essen
END:VEVENT
BEGIN:VEVENT
DTSTAMP:20260420T011039
DTSTART;TZID=Europe/Berlin:20260302T141500
DTEND;TZID=Europe/Berlin:20260302T164000
UID:261.4E439F-20260302T141500@VHSESSEN
SUMMARY:Deutsch als Fremdsprache B1 Auffrischung (261.4E439F) 
LOCATION:VHS, Raum 3.02 (Foto), Burgplatz 1, 45127 Essen
END:VEVENT
BEGIN:VEVENT
DTSTAMP:20260420T011039
DTSTART;TZID=Europe/Berlin:20260303T141500
DTEND;TZID=Europe/Berlin:20260303T164000
UID:261.4E439F-20260303T141500@VHSESSEN
SUMMARY:Deutsch als Fremdsprache B1 Auffrischung (261.4E439F) 
LOCATION:VHS, Raum 3.02 (Foto), Burgplatz 1, 45127 Essen
END:VEVENT
BEGIN:VEVENT
DTSTAMP:20260420T011039
DTSTART;TZID=Europe/Berlin:20260306T141500
DTEND;TZID=Europe/Berlin:20260306T164000
UID:261.4E439F-20260306T141500@VHSESSEN
SUMMARY:Deutsch als Fremdsprache B1 Auffrischung (261.4E439F) 
LOCATION:VHS, Raum 3.02 (Foto), Burgplatz 1, 45127 Essen
END:VEVENT
BEGIN:VEVENT
DTSTAMP:20260420T011039
DTSTART;TZID=Europe/Berlin:20260309T141500
DTEND;TZID=Europe/Berlin:20260309T164000
UID:261.4E439F-20260309T141500@VHSESSEN
SUMMARY:Deutsch als Fremdsprache B1 Auffrischung (261.4E439F) 
LOCATION:VHS, Raum 3.02 (Foto), Burgplatz 1, 45127 Essen
END:VEVENT
BEGIN:VEVENT
DTSTAMP:20260420T011039
DTSTART;TZID=Europe/Berlin:20260310T141500
DTEND;TZID=Europe/Berlin:20260310T164000
UID:261.4E439F-20260310T141500@VHSESSEN
SUMMARY:Deutsch als Fremdsprache B1 Auffrischung (261.4E439F) 
LOCATION:VHS, Raum 3.02 (Foto), Burgplatz 1, 45127 Essen
END:VEVENT
BEGIN:VEVENT
DTSTAMP:20260420T011039
DTSTART;TZID=Europe/Berlin:20260313T141500
DTEND;TZID=Europe/Berlin:20260313T164000
UID:261.4E439F-20260313T141500@VHSESSEN
SUMMARY:Deutsch als Fremdsprache B1 Auffrischung (261.4E439F) 
LOCATION:VHS, Raum 3.02 (Foto), Burgplatz 1, 45127 Essen
END:VEVENT
BEGIN:VEVENT
DTSTAMP:20260420T011039
DTSTART;TZID=Europe/Berlin:20260316T141500
DTEND;TZID=Europe/Berlin:20260316T164000
UID:261.4E439F-20260316T141500@VHSESSEN
SUMMARY:Deutsch als Fremdsprache B1 Auffrischung (261.4E439F) 
LOCATION:VHS, Raum 3.02 (Foto), Burgplatz 1, 45127 Essen
END:VEVENT
BEGIN:VEVENT
DTSTAMP:20260420T011039
DTSTART;TZID=Europe/Berlin:20260317T141500
DTEND;TZID=Europe/Berlin:20260317T164000
UID:261.4E439F-20260317T141500@VHSESSEN
SUMMARY:Deutsch als Fremdsprache B1 Auffrischung (261.4E439F) 
LOCATION:VHS, Raum 3.02 (Foto), Burgplatz 1, 45127 Essen
END:VEVENT
BEGIN:VEVENT
DTSTAMP:20260420T011039
DTSTART;TZID=Europe/Berlin:20260320T141500
DTEND;TZID=Europe/Berlin:20260320T164000
UID:261.4E439F-20260320T141500@VHSESSEN
SUMMARY:Deutsch als Fremdsprache B1 Auffrischung (261.4E439F) 
LOCATION:VHS, Raum 3.02 (Foto), Burgplatz 1, 45127 Essen
END:VEVENT
BEGIN:VEVENT
DTSTAMP:20260420T011039
DTSTART;TZID=Europe/Berlin:20260323T141500
DTEND;TZID=Europe/Berlin:20260323T164000
UID:261.4E439F-20260323T141500@VHSESSEN
SUMMARY:Deutsch als Fremdsprache B1 Auffrischung (261.4E439F) 
LOCATION:VHS, Raum 3.02 (Foto), Burgplatz 1, 45127 Essen
END:VEVENT
BEGIN:VEVENT
DTSTAMP:20260420T011039
DTSTART;TZID=Europe/Berlin:20260324T141500
DTEND;TZID=Europe/Berlin:20260324T164000
UID:261.4E439F-20260324T141500@VHSESSEN
SUMMARY:Deutsch als Fremdsprache B1 Auffrischung (261.4E439F) 
LOCATION:VHS, Raum 3.02 (Foto), Burgplatz 1, 45127 Essen
END:VEVENT
BEGIN:VEVENT
DTSTAMP:20260420T011039
DTSTART;TZID=Europe/Berlin:20260327T141500
DTEND;TZID=Europe/Berlin:20260327T164000
UID:261.4E439F-20260327T141500@VHSESSEN
SUMMARY:Deutsch als Fremdsprache B1 Auffrischung (261.4E439F) 
LOCATION:VHS, Raum 3.02 (Foto), Burgplatz 1, 45127 Essen
END:VEVENT
BEGIN:VEVENT
DTSTAMP:20260420T011039
DTSTART;TZID=Europe/Berlin:20260413T141500
DTEND;TZID=Europe/Berlin:20260413T164000
UID:261.4E439F-20260413T141500@VHSESSEN
SUMMARY:Deutsch als Fremdsprache B1 Auffrischung (261.4E439F) 
LOCATION:VHS, Raum 3.02 (Foto), Burgplatz 1, 45127 Essen
END:VEVENT
BEGIN:VEVENT
DTSTAMP:20260420T011039
DTSTART;TZID=Europe/Berlin:20260414T141500
DTEND;TZID=Europe/Berlin:20260414T164000
UID:261.4E439F-20260414T141500@VHSESSEN
SUMMARY:Deutsch als Fremdsprache B1 Auffrischung (261.4E439F) 
LOCATION:VHS, Raum 3.02 (Foto), Burgplatz 1, 45127 Essen
END:VEVENT
BEGIN:VEVENT
DTSTAMP:20260420T011039
DTSTART;TZID=Europe/Berlin:20260417T141500
DTEND;TZID=Europe/Berlin:20260417T164000
UID:261.4E439F-20260417T141500@VHSESSEN
SUMMARY:Deutsch als Fremdsprache B1 Auffrischung (261.4E439F) 
LOCATION:VHS, Raum 3.02 (Foto), Burgplatz 1, 45127 Essen
END:VEVENT
BEGIN:VEVENT
DTSTAMP:20260420T011039
DTSTART;TZID=Europe/Berlin:20260420T141500
DTEND;TZID=Europe/Berlin:20260420T164000
UID:261.4E439F-20260420T141500@VHSESSEN
SUMMARY:Deutsch als Fremdsprache B1 Auffrischung (261.4E439F) 
LOCATION:VHS, Raum 3.02 (Foto), Burgplatz 1, 45127 Essen
END:VEVENT
BEGIN:VEVENT
DTSTAMP:20260420T011039
DTSTART;TZID=Europe/Berlin:20260421T141500
DTEND;TZID=Europe/Berlin:20260421T164000
UID:261.4E439F-20260421T141500@VHSESSEN
SUMMARY:Deutsch als Fremdsprache B1 Auffrischung (261.4E439F) 
LOCATION:VHS, Raum 3.02 (Foto), Burgplatz 1, 45127 Essen
END:VEVENT
BEGIN:VEVENT
DTSTAMP:20260420T011039
DTSTART;TZID=Europe/Berlin:20260424T141500
DTEND;TZID=Europe/Berlin:20260424T164000
UID:261.4E439F-20260424T141500@VHSESSEN
SUMMARY:Deutsch als Fremdsprache B1 Auffrischung (261.4E439F) 
LOCATION:VHS, Raum 3.02 (Foto), Burgplatz 1, 45127 Essen
END:VEVENT
BEGIN:VEVENT
DTSTAMP:20260420T011039
DTSTART;TZID=Europe/Berlin:20260427T141500
DTEND;TZID=Europe/Berlin:20260427T164000
UID:261.4E439F-20260427T141500@VHSESSEN
SUMMARY:Deutsch als Fremdsprache B1 Auffrischung (261.4E439F) 
LOCATION:VHS, Raum 3.02 (Foto), Burgplatz 1, 45127 Essen
END:VEVENT
BEGIN:VEVENT
DTSTAMP:20260420T011039
DTSTART;TZID=Europe/Berlin:20260428T141500
DTEND;TZID=Europe/Berlin:20260428T164000
UID:261.4E439F-20260428T141500@VHSESSEN
SUMMARY:Deutsch als Fremdsprache B1 Auffrischung (261.4E439F) 
LOCATION:VHS, Raum 3.02 (Foto), Burgplatz 1, 45127 Essen
END:VEVENT
BEGIN:VEVENT
DTSTAMP:20260420T011039
DTSTART;TZID=Europe/Berlin:20260505T141500
DTEND;TZID=Europe/Berlin:20260505T164000
UID:261.4E439F-20260505T141500@VHSESSEN
SUMMARY:Deutsch als Fremdsprache B1 Auffrischung (261.4E439F) 
LOCATION:VHS, Raum 3.02 (Foto), Burgplatz 1, 45127 Essen
END:VEVENT
BEGIN:VEVENT
DTSTAMP:20260420T011039
DTSTART;TZID=Europe/Berlin:20260508T141500
DTEND;TZID=Europe/Berlin:20260508T164000
UID:261.4E439F-20260508T141500@VHSESSEN
SUMMARY:Deutsch als Fremdsprache B1 Auffrischung (261.4E439F) 
LOCATION:VHS, Raum 3.02 (Foto), Burgplatz 1, 45127 Essen
END:VEVENT
BEGIN:VEVENT
DTSTAMP:20260420T011039
DTSTART;TZID=Europe/Berlin:20260511T141500
DTEND;TZID=Europe/Berlin:20260511T164000
UID:261.4E439F-20260511T141500@VHSESSEN
SUMMARY:Deutsch als Fremdsprache B1 Auffrischung (261.4E439F) 
LOCATION:VHS, Raum 3.02 (Foto), Burgplatz 1, 45127 Essen
END:VEVENT
BEGIN:VEVENT
DTSTAMP:20260420T011039
DTSTART;TZID=Europe/Berlin:20260512T141500
DTEND;TZID=Europe/Berlin:20260512T164000
UID:261.4E439F-20260512T141500@VHSESSEN
SUMMARY:Deutsch als Fremdsprache B1 Auffrischung (261.4E439F) 
LOCATION:VHS, Raum 3.02 (Foto), Burgplatz 1, 45127 Essen
END:VEVENT
BEGIN:VEVENT
DTSTAMP:20260420T011039
DTSTART;TZID=Europe/Berlin:20260515T141500
DTEND;TZID=Europe/Berlin:20260515T164000
UID:261.4E439F-20260515T141500@VHSESSEN
SUMMARY:Deutsch als Fremdsprache B1 Auffrischung (261.4E439F) 
LOCATION:VHS, Raum 3.02 (Foto), Burgplatz 1, 45127 Essen
END:VEVENT
END:VCALENDAR