BEGIN:VCALENDAR
VERSION:2.0
PRODID:https://www.kufer.de/kuferweb / DE
METHOD:PUBLISH
CALSCALE:GREGORIAN
X-WR-TIMEZONE:Europe/Berlin
BEGIN:VTIMEZONE
TZID:Europe/Berlin
X-LIC-LOCATION:Europe/Berlin
BEGIN:DAYLIGHT
TZOFFSETFROM:+0100
TZOFFSETTO:+0200
TZNAME:CEST
DTSTART:19700329T020000
RRULE:FREQ=YEARLY;INTERVAL=1;BYDAY=-1SU;BYMONTH=3
END:DAYLIGHT
BEGIN:STANDARD
TZOFFSETFROM:+0200
TZOFFSETTO:+0100
TZNAME:CET
DTSTART:19701025T030000
RRULE:FREQ=YEARLY;INTERVAL=1;BYDAY=-1SU;BYMONTH=10
END:STANDARD
END:VTIMEZONE
BEGIN:VEVENT
DTSTAMP:20260422T133157
DTSTART;TZID=Europe/Berlin:20260310T124500
DTEND;TZID=Europe/Berlin:20260310T160000
UID:261.4F302C-20260310T124500@VHSESSEN
SUMMARY:Integrationskurs, Modul 2 (261.4F302C) 
LOCATION:VHS, Raum 4.12, Burgplatz 1, 45127 Essen
END:VEVENT
BEGIN:VEVENT
DTSTAMP:20260422T133157
DTSTART;TZID=Europe/Berlin:20260311T124500
DTEND;TZID=Europe/Berlin:20260311T160000
UID:261.4F302C-20260311T124500@VHSESSEN
SUMMARY:Integrationskurs, Modul 2 (261.4F302C) 
LOCATION:VHS, Raum 4.12, Burgplatz 1, 45127 Essen
END:VEVENT
BEGIN:VEVENT
DTSTAMP:20260422T133157
DTSTART;TZID=Europe/Berlin:20260312T124500
DTEND;TZID=Europe/Berlin:20260312T160000
UID:261.4F302C-20260312T124500@VHSESSEN
SUMMARY:Integrationskurs, Modul 2 (261.4F302C) 
LOCATION:VHS, Raum 3.21, Burgplatz 1, 45127 Essen
END:VEVENT
BEGIN:VEVENT
DTSTAMP:20260422T133157
DTSTART;TZID=Europe/Berlin:20260313T124500
DTEND;TZID=Europe/Berlin:20260313T160000
UID:261.4F302C-20260313T124500@VHSESSEN
SUMMARY:Integrationskurs, Modul 2 (261.4F302C) 
LOCATION:VHS, Raum 4.12, Burgplatz 1, 45127 Essen
END:VEVENT
BEGIN:VEVENT
DTSTAMP:20260422T133157
DTSTART;TZID=Europe/Berlin:20260316T124500
DTEND;TZID=Europe/Berlin:20260316T160000
UID:261.4F302C-20260316T124500@VHSESSEN
SUMMARY:Integrationskurs, Modul 2 (261.4F302C) 
LOCATION:VHS, Raum 4.12, Burgplatz 1, 45127 Essen
END:VEVENT
BEGIN:VEVENT
DTSTAMP:20260422T133157
DTSTART;TZID=Europe/Berlin:20260317T124500
DTEND;TZID=Europe/Berlin:20260317T160000
UID:261.4F302C-20260317T124500@VHSESSEN
SUMMARY:Integrationskurs, Modul 2 (261.4F302C) 
LOCATION:VHS, Raum 4.12, Burgplatz 1, 45127 Essen
END:VEVENT
BEGIN:VEVENT
DTSTAMP:20260422T133157
DTSTART;TZID=Europe/Berlin:20260319T124500
DTEND;TZID=Europe/Berlin:20260319T160000
UID:261.4F302C-20260319T124500@VHSESSEN
SUMMARY:Integrationskurs, Modul 2 (261.4F302C) 
LOCATION:VHS, Raum 3.21, Burgplatz 1, 45127 Essen
END:VEVENT
BEGIN:VEVENT
DTSTAMP:20260422T133157
DTSTART;TZID=Europe/Berlin:20260320T124500
DTEND;TZID=Europe/Berlin:20260320T160000
UID:261.4F302C-20260320T124500@VHSESSEN
SUMMARY:Integrationskurs, Modul 2 (261.4F302C) 
LOCATION:VHS, Raum 4.12, Burgplatz 1, 45127 Essen
END:VEVENT
BEGIN:VEVENT
DTSTAMP:20260422T133157
DTSTART;TZID=Europe/Berlin:20260323T140000
DTEND;TZID=Europe/Berlin:20260323T171500
UID:261.4F302C-20260323T140000@VHSESSEN
SUMMARY:Integrationskurs, Modul 2 (261.4F302C) 
LOCATION:VHS, Raum 4.12, Burgplatz 1, 45127 Essen
END:VEVENT
BEGIN:VEVENT
DTSTAMP:20260422T133157
DTSTART;TZID=Europe/Berlin:20260324T124500
DTEND;TZID=Europe/Berlin:20260324T160000
UID:261.4F302C-20260324T124500@VHSESSEN
SUMMARY:Integrationskurs, Modul 2 (261.4F302C) 
LOCATION:VHS, Raum 4.12, Burgplatz 1, 45127 Essen
END:VEVENT
BEGIN:VEVENT
DTSTAMP:20260422T133157
DTSTART;TZID=Europe/Berlin:20260325T124500
DTEND;TZID=Europe/Berlin:20260325T160000
UID:261.4F302C-20260325T124500@VHSESSEN
SUMMARY:Integrationskurs, Modul 2 (261.4F302C) 
LOCATION:VHS, Raum 4.12, Burgplatz 1, 45127 Essen
END:VEVENT
BEGIN:VEVENT
DTSTAMP:20260422T133157
DTSTART;TZID=Europe/Berlin:20260326T124500
DTEND;TZID=Europe/Berlin:20260326T160000
UID:261.4F302C-20260326T124500@VHSESSEN
SUMMARY:Integrationskurs, Modul 2 (261.4F302C) 
LOCATION:VHS, Raum 3.21, Burgplatz 1, 45127 Essen
END:VEVENT
BEGIN:VEVENT
DTSTAMP:20260422T133157
DTSTART;TZID=Europe/Berlin:20260327T124500
DTEND;TZID=Europe/Berlin:20260327T160000
UID:261.4F302C-20260327T124500@VHSESSEN
SUMMARY:Integrationskurs, Modul 2 (261.4F302C) 
LOCATION:VHS, Raum 4.12, Burgplatz 1, 45127 Essen
END:VEVENT
BEGIN:VEVENT
DTSTAMP:20260422T133157
DTSTART;TZID=Europe/Berlin:20260414T124500
DTEND;TZID=Europe/Berlin:20260414T160000
UID:261.4F302C-20260414T124500@VHSESSEN
SUMMARY:Integrationskurs, Modul 2 (261.4F302C) 
LOCATION:VHS, Raum 4.12, Burgplatz 1, 45127 Essen
END:VEVENT
BEGIN:VEVENT
DTSTAMP:20260422T133157
DTSTART;TZID=Europe/Berlin:20260415T124500
DTEND;TZID=Europe/Berlin:20260415T160000
UID:261.4F302C-20260415T124500@VHSESSEN
SUMMARY:Integrationskurs, Modul 2 (261.4F302C) 
LOCATION:VHS, Raum 4.12, Burgplatz 1, 45127 Essen
END:VEVENT
BEGIN:VEVENT
DTSTAMP:20260422T133157
DTSTART;TZID=Europe/Berlin:20260416T124500
DTEND;TZID=Europe/Berlin:20260416T160000
UID:261.4F302C-20260416T124500@VHSESSEN
SUMMARY:Integrationskurs, Modul 2 (261.4F302C) 
LOCATION:VHS, Raum 3.21, Burgplatz 1, 45127 Essen
END:VEVENT
BEGIN:VEVENT
DTSTAMP:20260422T133157
DTSTART;TZID=Europe/Berlin:20260417T124500
DTEND;TZID=Europe/Berlin:20260417T160000
UID:261.4F302C-20260417T124500@VHSESSEN
SUMMARY:Integrationskurs, Modul 2 (261.4F302C) 
LOCATION:VHS, Raum 4.12, Burgplatz 1, 45127 Essen
END:VEVENT
BEGIN:VEVENT
DTSTAMP:20260422T133157
DTSTART;TZID=Europe/Berlin:20260420T124500
DTEND;TZID=Europe/Berlin:20260420T160000
UID:261.4F302C-20260420T124500@VHSESSEN
SUMMARY:Integrationskurs, Modul 2 (261.4F302C) 
LOCATION:VHS, Raum 4.12, Burgplatz 1, 45127 Essen
END:VEVENT
BEGIN:VEVENT
DTSTAMP:20260422T133157
DTSTART;TZID=Europe/Berlin:20260421T124500
DTEND;TZID=Europe/Berlin:20260421T160000
UID:261.4F302C-20260421T124500@VHSESSEN
SUMMARY:Integrationskurs, Modul 2 (261.4F302C) 
LOCATION:VHS, Raum 4.12, Burgplatz 1, 45127 Essen
END:VEVENT
BEGIN:VEVENT
DTSTAMP:20260422T133157
DTSTART;TZID=Europe/Berlin:20260422T124500
DTEND;TZID=Europe/Berlin:20260422T160000
UID:261.4F302C-20260422T124500@VHSESSEN
SUMMARY:Integrationskurs, Modul 2 (261.4F302C) 
LOCATION:VHS, Raum 4.12, Burgplatz 1, 45127 Essen
END:VEVENT
BEGIN:VEVENT
DTSTAMP:20260422T133157
DTSTART;TZID=Europe/Berlin:20260423T124500
DTEND;TZID=Europe/Berlin:20260423T160000
UID:261.4F302C-20260423T124500@VHSESSEN
SUMMARY:Integrationskurs, Modul 2 (261.4F302C) 
LOCATION:VHS, Raum 3.21, Burgplatz 1, 45127 Essen
END:VEVENT
BEGIN:VEVENT
DTSTAMP:20260422T133157
DTSTART;TZID=Europe/Berlin:20260424T124500
DTEND;TZID=Europe/Berlin:20260424T160000
UID:261.4F302C-20260424T124500@VHSESSEN
SUMMARY:Integrationskurs, Modul 2 (261.4F302C) 
LOCATION:VHS, Raum 4.12, Burgplatz 1, 45127 Essen
END:VEVENT
BEGIN:VEVENT
DTSTAMP:20260422T133157
DTSTART;TZID=Europe/Berlin:20260427T124500
DTEND;TZID=Europe/Berlin:20260427T160000
UID:261.4F302C-20260427T124500@VHSESSEN
SUMMARY:Integrationskurs, Modul 2 (261.4F302C) 
LOCATION:VHS, Raum 4.12, Burgplatz 1, 45127 Essen
END:VEVENT
BEGIN:VEVENT
DTSTAMP:20260422T133157
DTSTART;TZID=Europe/Berlin:20260428T124500
DTEND;TZID=Europe/Berlin:20260428T160000
UID:261.4F302C-20260428T124500@VHSESSEN
SUMMARY:Integrationskurs, Modul 2 (261.4F302C) 
LOCATION:VHS, Raum 4.12, Burgplatz 1, 45127 Essen
END:VEVENT
BEGIN:VEVENT
DTSTAMP:20260422T133157
DTSTART;TZID=Europe/Berlin:20260429T124500
DTEND;TZID=Europe/Berlin:20260429T160000
UID:261.4F302C-20260429T124500@VHSESSEN
SUMMARY:Integrationskurs, Modul 2 (261.4F302C) 
LOCATION:VHS, Raum 4.12, Burgplatz 1, 45127 Essen
END:VEVENT
END:VCALENDAR