BEGIN:VCALENDAR
VERSION:2.0
PRODID:https://www.kufer.de/kuferweb / DE
METHOD:PUBLISH
CALSCALE:GREGORIAN
X-WR-TIMEZONE:Europe/Berlin
BEGIN:VTIMEZONE
TZID:Europe/Berlin
X-LIC-LOCATION:Europe/Berlin
BEGIN:DAYLIGHT
TZOFFSETFROM:+0100
TZOFFSETTO:+0200
TZNAME:CEST
DTSTART:19700329T020000
RRULE:FREQ=YEARLY;INTERVAL=1;BYDAY=-1SU;BYMONTH=3
END:DAYLIGHT
BEGIN:STANDARD
TZOFFSETFROM:+0200
TZOFFSETTO:+0100
TZNAME:CET
DTSTART:19701025T030000
RRULE:FREQ=YEARLY;INTERVAL=1;BYDAY=-1SU;BYMONTH=10
END:STANDARD
END:VTIMEZONE
BEGIN:VEVENT
DTSTAMP:20260419T231857
DTSTART;TZID=Europe/Berlin:20260213T174500
DTEND;TZID=Europe/Berlin:20260213T205500
UID:261.4F454C-20260213T174500@VHSESSEN
SUMMARY:Integrationskurs für Berufstätige, Modul 4 (261.4F454C) 
LOCATION:VHS, Raum 4.10, Burgplatz 1, 45127 Essen
END:VEVENT
BEGIN:VEVENT
DTSTAMP:20260419T231857
DTSTART;TZID=Europe/Berlin:20260218T174500
DTEND;TZID=Europe/Berlin:20260218T205500
UID:261.4F454C-20260218T174500@VHSESSEN
SUMMARY:Integrationskurs für Berufstätige, Modul 4 (261.4F454C) 
LOCATION:VHS, Raum 4.10, Burgplatz 1, 45127 Essen
END:VEVENT
BEGIN:VEVENT
DTSTAMP:20260419T231857
DTSTART;TZID=Europe/Berlin:20260220T174500
DTEND;TZID=Europe/Berlin:20260220T205500
UID:261.4F454C-20260220T174500@VHSESSEN
SUMMARY:Integrationskurs für Berufstätige, Modul 4 (261.4F454C) 
LOCATION:VHS, Raum 4.10, Burgplatz 1, 45127 Essen
END:VEVENT
BEGIN:VEVENT
DTSTAMP:20260419T231857
DTSTART;TZID=Europe/Berlin:20260223T174500
DTEND;TZID=Europe/Berlin:20260223T205500
UID:261.4F454C-20260223T174500@VHSESSEN
SUMMARY:Integrationskurs für Berufstätige, Modul 4 (261.4F454C) 
LOCATION:VHS, Raum 4.10, Burgplatz 1, 45127 Essen
END:VEVENT
BEGIN:VEVENT
DTSTAMP:20260419T231857
DTSTART;TZID=Europe/Berlin:20260225T174500
DTEND;TZID=Europe/Berlin:20260225T205500
UID:261.4F454C-20260225T174500@VHSESSEN
SUMMARY:Integrationskurs für Berufstätige, Modul 4 (261.4F454C) 
LOCATION:VHS, Raum 4.10, Burgplatz 1, 45127 Essen
END:VEVENT
BEGIN:VEVENT
DTSTAMP:20260419T231857
DTSTART;TZID=Europe/Berlin:20260227T174500
DTEND;TZID=Europe/Berlin:20260227T205500
UID:261.4F454C-20260227T174500@VHSESSEN
SUMMARY:Integrationskurs für Berufstätige, Modul 4 (261.4F454C) 
LOCATION:VHS, Raum 4.10, Burgplatz 1, 45127 Essen
END:VEVENT
BEGIN:VEVENT
DTSTAMP:20260419T231857
DTSTART;TZID=Europe/Berlin:20260302T174500
DTEND;TZID=Europe/Berlin:20260302T205500
UID:261.4F454C-20260302T174500@VHSESSEN
SUMMARY:Integrationskurs für Berufstätige, Modul 4 (261.4F454C) 
LOCATION:VHS, Raum 4.10, Burgplatz 1, 45127 Essen
END:VEVENT
BEGIN:VEVENT
DTSTAMP:20260419T231857
DTSTART;TZID=Europe/Berlin:20260304T174500
DTEND;TZID=Europe/Berlin:20260304T205500
UID:261.4F454C-20260304T174500@VHSESSEN
SUMMARY:Integrationskurs für Berufstätige, Modul 4 (261.4F454C) 
LOCATION:VHS, Raum 4.10, Burgplatz 1, 45127 Essen
END:VEVENT
BEGIN:VEVENT
DTSTAMP:20260419T231857
DTSTART;TZID=Europe/Berlin:20260306T174500
DTEND;TZID=Europe/Berlin:20260306T205500
UID:261.4F454C-20260306T174500@VHSESSEN
SUMMARY:Integrationskurs für Berufstätige, Modul 4 (261.4F454C) 
LOCATION:VHS, Raum 4.10, Burgplatz 1, 45127 Essen
END:VEVENT
BEGIN:VEVENT
DTSTAMP:20260419T231857
DTSTART;TZID=Europe/Berlin:20260309T174500
DTEND;TZID=Europe/Berlin:20260309T205500
UID:261.4F454C-20260309T174500@VHSESSEN
SUMMARY:Integrationskurs für Berufstätige, Modul 4 (261.4F454C) 
LOCATION:VHS, Raum 4.10, Burgplatz 1, 45127 Essen
END:VEVENT
BEGIN:VEVENT
DTSTAMP:20260419T231857
DTSTART;TZID=Europe/Berlin:20260311T174500
DTEND;TZID=Europe/Berlin:20260311T205500
UID:261.4F454C-20260311T174500@VHSESSEN
SUMMARY:Integrationskurs für Berufstätige, Modul 4 (261.4F454C) 
LOCATION:VHS, Raum 4.10, Burgplatz 1, 45127 Essen
END:VEVENT
BEGIN:VEVENT
DTSTAMP:20260419T231857
DTSTART;TZID=Europe/Berlin:20260313T174500
DTEND;TZID=Europe/Berlin:20260313T205500
UID:261.4F454C-20260313T174500@VHSESSEN
SUMMARY:Integrationskurs für Berufstätige, Modul 4 (261.4F454C) 
LOCATION:VHS, Raum 4.10, Burgplatz 1, 45127 Essen
END:VEVENT
BEGIN:VEVENT
DTSTAMP:20260419T231857
DTSTART;TZID=Europe/Berlin:20260320T174500
DTEND;TZID=Europe/Berlin:20260320T205500
UID:261.4F454C-20260320T174500@VHSESSEN
SUMMARY:Integrationskurs für Berufstätige, Modul 4 (261.4F454C) 
LOCATION:VHS, Raum 4.10, Burgplatz 1, 45127 Essen
END:VEVENT
BEGIN:VEVENT
DTSTAMP:20260419T231857
DTSTART;TZID=Europe/Berlin:20260323T174500
DTEND;TZID=Europe/Berlin:20260323T205500
UID:261.4F454C-20260323T174500@VHSESSEN
SUMMARY:Integrationskurs für Berufstätige, Modul 4 (261.4F454C) 
LOCATION:VHS, Raum 4.10, Burgplatz 1, 45127 Essen
END:VEVENT
BEGIN:VEVENT
DTSTAMP:20260419T231857
DTSTART;TZID=Europe/Berlin:20260325T174500
DTEND;TZID=Europe/Berlin:20260325T205500
UID:261.4F454C-20260325T174500@VHSESSEN
SUMMARY:Integrationskurs für Berufstätige, Modul 4 (261.4F454C) 
LOCATION:VHS, Raum 4.10, Burgplatz 1, 45127 Essen
END:VEVENT
BEGIN:VEVENT
DTSTAMP:20260419T231857
DTSTART;TZID=Europe/Berlin:20260327T174500
DTEND;TZID=Europe/Berlin:20260327T205500
UID:261.4F454C-20260327T174500@VHSESSEN
SUMMARY:Integrationskurs für Berufstätige, Modul 4 (261.4F454C) 
LOCATION:VHS, Raum 4.10, Burgplatz 1, 45127 Essen
END:VEVENT
BEGIN:VEVENT
DTSTAMP:20260419T231857
DTSTART;TZID=Europe/Berlin:20260413T174500
DTEND;TZID=Europe/Berlin:20260413T205500
UID:261.4F454C-20260413T174500@VHSESSEN
SUMMARY:Integrationskurs für Berufstätige, Modul 4 (261.4F454C) 
LOCATION:VHS, Raum 4.10, Burgplatz 1, 45127 Essen
END:VEVENT
BEGIN:VEVENT
DTSTAMP:20260419T231857
DTSTART;TZID=Europe/Berlin:20260415T174500
DTEND;TZID=Europe/Berlin:20260415T205500
UID:261.4F454C-20260415T174500@VHSESSEN
SUMMARY:Integrationskurs für Berufstätige, Modul 4 (261.4F454C) 
LOCATION:VHS, Raum 4.10, Burgplatz 1, 45127 Essen
END:VEVENT
BEGIN:VEVENT
DTSTAMP:20260419T231857
DTSTART;TZID=Europe/Berlin:20260417T174500
DTEND;TZID=Europe/Berlin:20260417T205500
UID:261.4F454C-20260417T174500@VHSESSEN
SUMMARY:Integrationskurs für Berufstätige, Modul 4 (261.4F454C) 
LOCATION:VHS, Raum 4.10, Burgplatz 1, 45127 Essen
END:VEVENT
BEGIN:VEVENT
DTSTAMP:20260419T231857
DTSTART;TZID=Europe/Berlin:20260420T174500
DTEND;TZID=Europe/Berlin:20260420T205500
UID:261.4F454C-20260420T174500@VHSESSEN
SUMMARY:Integrationskurs für Berufstätige, Modul 4 (261.4F454C) 
LOCATION:VHS, Raum 4.10, Burgplatz 1, 45127 Essen
END:VEVENT
BEGIN:VEVENT
DTSTAMP:20260419T231857
DTSTART;TZID=Europe/Berlin:20260422T174500
DTEND;TZID=Europe/Berlin:20260422T205500
UID:261.4F454C-20260422T174500@VHSESSEN
SUMMARY:Integrationskurs für Berufstätige, Modul 4 (261.4F454C) 
LOCATION:VHS, Raum 4.10, Burgplatz 1, 45127 Essen
END:VEVENT
BEGIN:VEVENT
DTSTAMP:20260419T231857
DTSTART;TZID=Europe/Berlin:20260424T174500
DTEND;TZID=Europe/Berlin:20260424T205500
UID:261.4F454C-20260424T174500@VHSESSEN
SUMMARY:Integrationskurs für Berufstätige, Modul 4 (261.4F454C) 
LOCATION:VHS, Raum 4.10, Burgplatz 1, 45127 Essen
END:VEVENT
BEGIN:VEVENT
DTSTAMP:20260419T231857
DTSTART;TZID=Europe/Berlin:20260427T174500
DTEND;TZID=Europe/Berlin:20260427T205500
UID:261.4F454C-20260427T174500@VHSESSEN
SUMMARY:Integrationskurs für Berufstätige, Modul 4 (261.4F454C) 
LOCATION:VHS, Raum 4.10, Burgplatz 1, 45127 Essen
END:VEVENT
BEGIN:VEVENT
DTSTAMP:20260419T231857
DTSTART;TZID=Europe/Berlin:20260429T174500
DTEND;TZID=Europe/Berlin:20260429T205500
UID:261.4F454C-20260429T174500@VHSESSEN
SUMMARY:Integrationskurs für Berufstätige, Modul 4 (261.4F454C) 
LOCATION:VHS, Raum 4.10, Burgplatz 1, 45127 Essen
END:VEVENT
BEGIN:VEVENT
DTSTAMP:20260419T231857
DTSTART;TZID=Europe/Berlin:20260504T174500
DTEND;TZID=Europe/Berlin:20260504T205500
UID:261.4F454C-20260504T174500@VHSESSEN
SUMMARY:Integrationskurs für Berufstätige, Modul 4 (261.4F454C) 
LOCATION:VHS, Raum 4.10, Burgplatz 1, 45127 Essen
END:VEVENT
END:VCALENDAR