BEGIN:VCALENDAR
VERSION:2.0
PRODID:https://www.kufer.de/kuferweb / DE
METHOD:PUBLISH
CALSCALE:GREGORIAN
X-WR-TIMEZONE:Europe/Berlin
BEGIN:VTIMEZONE
TZID:Europe/Berlin
X-LIC-LOCATION:Europe/Berlin
BEGIN:DAYLIGHT
TZOFFSETFROM:+0100
TZOFFSETTO:+0200
TZNAME:CEST
DTSTART:19700329T020000
RRULE:FREQ=YEARLY;INTERVAL=1;BYDAY=-1SU;BYMONTH=3
END:DAYLIGHT
BEGIN:STANDARD
TZOFFSETFROM:+0200
TZOFFSETTO:+0100
TZNAME:CET
DTSTART:19701025T030000
RRULE:FREQ=YEARLY;INTERVAL=1;BYDAY=-1SU;BYMONTH=10
END:STANDARD
END:VTIMEZONE
BEGIN:VEVENT
DTSTAMP:20260422T115511
DTSTART;TZID=Europe/Berlin:20260305T180000
DTEND;TZID=Europe/Berlin:20260305T210000
UID:261.4S066M-20260305T180000@VHSESSEN
SUMMARY:Spanisch A1.1 kompakt  (Teil 1) - online (261.4S066M) 
LOCATION:virtueller Kursraum
END:VEVENT
BEGIN:VEVENT
DTSTAMP:20260422T115511
DTSTART;TZID=Europe/Berlin:20260312T180000
DTEND;TZID=Europe/Berlin:20260312T210000
UID:261.4S066M-20260312T180000@VHSESSEN
SUMMARY:Spanisch A1.1 kompakt  (Teil 1) - online (261.4S066M) 
LOCATION:virtueller Kursraum
END:VEVENT
BEGIN:VEVENT
DTSTAMP:20260422T115511
DTSTART;TZID=Europe/Berlin:20260319T180000
DTEND;TZID=Europe/Berlin:20260319T210000
UID:261.4S066M-20260319T180000@VHSESSEN
SUMMARY:Spanisch A1.1 kompakt  (Teil 1) - online (261.4S066M) 
LOCATION:virtueller Kursraum
END:VEVENT
BEGIN:VEVENT
DTSTAMP:20260422T115511
DTSTART;TZID=Europe/Berlin:20260326T180000
DTEND;TZID=Europe/Berlin:20260326T210000
UID:261.4S066M-20260326T180000@VHSESSEN
SUMMARY:Spanisch A1.1 kompakt  (Teil 1) - online (261.4S066M) 
LOCATION:virtueller Kursraum
END:VEVENT
BEGIN:VEVENT
DTSTAMP:20260422T115511
DTSTART;TZID=Europe/Berlin:20260416T180000
DTEND;TZID=Europe/Berlin:20260416T210000
UID:261.4S066M-20260416T180000@VHSESSEN
SUMMARY:Spanisch A1.1 kompakt  (Teil 1) - online (261.4S066M) 
LOCATION:virtueller Kursraum
END:VEVENT
BEGIN:VEVENT
DTSTAMP:20260422T115511
DTSTART;TZID=Europe/Berlin:20260423T180000
DTEND;TZID=Europe/Berlin:20260423T210000
UID:261.4S066M-20260423T180000@VHSESSEN
SUMMARY:Spanisch A1.1 kompakt  (Teil 1) - online (261.4S066M) 
LOCATION:virtueller Kursraum
END:VEVENT
BEGIN:VEVENT
DTSTAMP:20260422T115511
DTSTART;TZID=Europe/Berlin:20260430T180000
DTEND;TZID=Europe/Berlin:20260430T210000
UID:261.4S066M-20260430T180000@VHSESSEN
SUMMARY:Spanisch A1.1 kompakt  (Teil 1) - online (261.4S066M) 
LOCATION:virtueller Kursraum
END:VEVENT
BEGIN:VEVENT
DTSTAMP:20260422T115511
DTSTART;TZID=Europe/Berlin:20260507T180000
DTEND;TZID=Europe/Berlin:20260507T210000
UID:261.4S066M-20260507T180000@VHSESSEN
SUMMARY:Spanisch A1.1 kompakt  (Teil 1) - online (261.4S066M) 
LOCATION:virtueller Kursraum
END:VEVENT
END:VCALENDAR