BEGIN:VCALENDAR
VERSION:2.0
PRODID:https://www.kufer.de/kuferweb / DE
METHOD:PUBLISH
CALSCALE:GREGORIAN
X-WR-TIMEZONE:Europe/Berlin
BEGIN:VTIMEZONE
TZID:Europe/Berlin
X-LIC-LOCATION:Europe/Berlin
BEGIN:DAYLIGHT
TZOFFSETFROM:+0100
TZOFFSETTO:+0200
TZNAME:CEST
DTSTART:19700329T020000
RRULE:FREQ=YEARLY;INTERVAL=1;BYDAY=-1SU;BYMONTH=3
END:DAYLIGHT
BEGIN:STANDARD
TZOFFSETFROM:+0200
TZOFFSETTO:+0100
TZNAME:CET
DTSTART:19701025T030000
RRULE:FREQ=YEARLY;INTERVAL=1;BYDAY=-1SU;BYMONTH=10
END:STANDARD
END:VTIMEZONE
BEGIN:VEVENT
DTSTAMP:20260421T100317
DTSTART;TZID=Europe/Berlin:20260224T184000
DTEND;TZID=Europe/Berlin:20260224T201000
UID:261.4S386M-20260224T184000@VHSESSEN
SUMMARY:Spanisch B2.1 (1. Semester) (261.4S386M) 
LOCATION:VHS, Raum 4.11, Burgplatz 1, 45127 Essen
END:VEVENT
BEGIN:VEVENT
DTSTAMP:20260421T100317
DTSTART;TZID=Europe/Berlin:20260310T184000
DTEND;TZID=Europe/Berlin:20260310T201000
UID:261.4S386M-20260310T184000@VHSESSEN
SUMMARY:Spanisch B2.1 (1. Semester) (261.4S386M) 
LOCATION:VHS, Raum 4.11, Burgplatz 1, 45127 Essen
END:VEVENT
BEGIN:VEVENT
DTSTAMP:20260421T100317
DTSTART;TZID=Europe/Berlin:20260317T184000
DTEND;TZID=Europe/Berlin:20260317T201000
UID:261.4S386M-20260317T184000@VHSESSEN
SUMMARY:Spanisch B2.1 (1. Semester) (261.4S386M) 
LOCATION:VHS, Raum BG 115, Burgplatz 1, 45127 Essen
END:VEVENT
BEGIN:VEVENT
DTSTAMP:20260421T100317
DTSTART;TZID=Europe/Berlin:20260324T184000
DTEND;TZID=Europe/Berlin:20260324T201000
UID:261.4S386M-20260324T184000@VHSESSEN
SUMMARY:Spanisch B2.1 (1. Semester) (261.4S386M) 
LOCATION:VHS, Raum BG 115, Burgplatz 1, 45127 Essen
END:VEVENT
BEGIN:VEVENT
DTSTAMP:20260421T100317
DTSTART;TZID=Europe/Berlin:20260414T184000
DTEND;TZID=Europe/Berlin:20260414T201000
UID:261.4S386M-20260414T184000@VHSESSEN
SUMMARY:Spanisch B2.1 (1. Semester) (261.4S386M) 
LOCATION:VHS, Raum BG 115, Burgplatz 1, 45127 Essen
END:VEVENT
BEGIN:VEVENT
DTSTAMP:20260421T100317
DTSTART;TZID=Europe/Berlin:20260421T184000
DTEND;TZID=Europe/Berlin:20260421T201000
UID:261.4S386M-20260421T184000@VHSESSEN
SUMMARY:Spanisch B2.1 (1. Semester) (261.4S386M) 
LOCATION:VHS, Raum BG 115, Burgplatz 1, 45127 Essen
END:VEVENT
BEGIN:VEVENT
DTSTAMP:20260421T100317
DTSTART;TZID=Europe/Berlin:20260428T184000
DTEND;TZID=Europe/Berlin:20260428T201000
UID:261.4S386M-20260428T184000@VHSESSEN
SUMMARY:Spanisch B2.1 (1. Semester) (261.4S386M) 
LOCATION:VHS, Raum BG 115, Burgplatz 1, 45127 Essen
END:VEVENT
BEGIN:VEVENT
DTSTAMP:20260421T100317
DTSTART;TZID=Europe/Berlin:20260505T184000
DTEND;TZID=Europe/Berlin:20260505T201000
UID:261.4S386M-20260505T184000@VHSESSEN
SUMMARY:Spanisch B2.1 (1. Semester) (261.4S386M) 
LOCATION:VHS, Raum BG 115, Burgplatz 1, 45127 Essen
END:VEVENT
BEGIN:VEVENT
DTSTAMP:20260421T100317
DTSTART;TZID=Europe/Berlin:20260512T184000
DTEND;TZID=Europe/Berlin:20260512T201000
UID:261.4S386M-20260512T184000@VHSESSEN
SUMMARY:Spanisch B2.1 (1. Semester) (261.4S386M) 
LOCATION:VHS, Raum BG 115, Burgplatz 1, 45127 Essen
END:VEVENT
BEGIN:VEVENT
DTSTAMP:20260421T100317
DTSTART;TZID=Europe/Berlin:20260519T184000
DTEND;TZID=Europe/Berlin:20260519T201000
UID:261.4S386M-20260519T184000@VHSESSEN
SUMMARY:Spanisch B2.1 (1. Semester) (261.4S386M) 
LOCATION:VHS, Raum BG 115, Burgplatz 1, 45127 Essen
END:VEVENT
BEGIN:VEVENT
DTSTAMP:20260421T100317
DTSTART;TZID=Europe/Berlin:20260602T184000
DTEND;TZID=Europe/Berlin:20260602T201000
UID:261.4S386M-20260602T184000@VHSESSEN
SUMMARY:Spanisch B2.1 (1. Semester) (261.4S386M) 
LOCATION:VHS, Raum BG 115, Burgplatz 1, 45127 Essen
END:VEVENT
BEGIN:VEVENT
DTSTAMP:20260421T100317
DTSTART;TZID=Europe/Berlin:20260609T184000
DTEND;TZID=Europe/Berlin:20260609T201000
UID:261.4S386M-20260609T184000@VHSESSEN
SUMMARY:Spanisch B2.1 (1. Semester) (261.4S386M) 
LOCATION:VHS, Raum BG 115, Burgplatz 1, 45127 Essen
END:VEVENT
BEGIN:VEVENT
DTSTAMP:20260421T100317
DTSTART;TZID=Europe/Berlin:20260616T184000
DTEND;TZID=Europe/Berlin:20260616T201000
UID:261.4S386M-20260616T184000@VHSESSEN
SUMMARY:Spanisch B2.1 (1. Semester) (261.4S386M) 
LOCATION:VHS, Raum BG 115, Burgplatz 1, 45127 Essen
END:VEVENT
BEGIN:VEVENT
DTSTAMP:20260421T100317
DTSTART;TZID=Europe/Berlin:20260623T184000
DTEND;TZID=Europe/Berlin:20260623T201000
UID:261.4S386M-20260623T184000@VHSESSEN
SUMMARY:Spanisch B2.1 (1. Semester) (261.4S386M) 
LOCATION:VHS, Raum BG 115, Burgplatz 1, 45127 Essen
END:VEVENT
BEGIN:VEVENT
DTSTAMP:20260421T100317
DTSTART;TZID=Europe/Berlin:20260630T184000
DTEND;TZID=Europe/Berlin:20260630T201000
UID:261.4S386M-20260630T184000@VHSESSEN
SUMMARY:Spanisch B2.1 (1. Semester) (261.4S386M) 
LOCATION:VHS, Raum BG 115, Burgplatz 1, 45127 Essen
END:VEVENT
END:VCALENDAR