BEGIN:VCALENDAR
VERSION:2.0
PRODID:https://www.kufer.de/kuferweb / DE
METHOD:PUBLISH
CALSCALE:GREGORIAN
X-WR-TIMEZONE:Europe/Berlin
BEGIN:VTIMEZONE
TZID:Europe/Berlin
X-LIC-LOCATION:Europe/Berlin
BEGIN:DAYLIGHT
TZOFFSETFROM:+0100
TZOFFSETTO:+0200
TZNAME:CEST
DTSTART:19700329T020000
RRULE:FREQ=YEARLY;INTERVAL=1;BYDAY=-1SU;BYMONTH=3
END:DAYLIGHT
BEGIN:STANDARD
TZOFFSETFROM:+0200
TZOFFSETTO:+0100
TZNAME:CET
DTSTART:19701025T030000
RRULE:FREQ=YEARLY;INTERVAL=1;BYDAY=-1SU;BYMONTH=10
END:STANDARD
END:VTIMEZONE
BEGIN:VEVENT
DTSTAMP:20260421T202445
DTSTART;TZID=Europe/Berlin:20260706T173000
DTEND;TZID=Europe/Berlin:20260706T183000
UID:261.4S699M-20260706T173000@VHSESSEN
SUMMARY:Sommerkurs A2 – Lesen, Sprechen, Schreiben und Hören (261.4S699M) 
LOCATION:virtueller Kursraum
END:VEVENT
BEGIN:VEVENT
DTSTAMP:20260421T202445
DTSTART;TZID=Europe/Berlin:20260713T173000
DTEND;TZID=Europe/Berlin:20260713T183000
UID:261.4S699M-20260713T173000@VHSESSEN
SUMMARY:Sommerkurs A2 – Lesen, Sprechen, Schreiben und Hören (261.4S699M) 
LOCATION:virtueller Kursraum
END:VEVENT
BEGIN:VEVENT
DTSTAMP:20260421T202445
DTSTART;TZID=Europe/Berlin:20260720T173000
DTEND;TZID=Europe/Berlin:20260720T183000
UID:261.4S699M-20260720T173000@VHSESSEN
SUMMARY:Sommerkurs A2 – Lesen, Sprechen, Schreiben und Hören (261.4S699M) 
LOCATION:virtueller Kursraum
END:VEVENT
BEGIN:VEVENT
DTSTAMP:20260421T202445
DTSTART;TZID=Europe/Berlin:20260727T173000
DTEND;TZID=Europe/Berlin:20260727T183000
UID:261.4S699M-20260727T173000@VHSESSEN
SUMMARY:Sommerkurs A2 – Lesen, Sprechen, Schreiben und Hören (261.4S699M) 
LOCATION:virtueller Kursraum
END:VEVENT
BEGIN:VEVENT
DTSTAMP:20260421T202445
DTSTART;TZID=Europe/Berlin:20260803T173000
DTEND;TZID=Europe/Berlin:20260803T183000
UID:261.4S699M-20260803T173000@VHSESSEN
SUMMARY:Sommerkurs A2 – Lesen, Sprechen, Schreiben und Hören (261.4S699M) 
LOCATION:virtueller Kursraum
END:VEVENT
BEGIN:VEVENT
DTSTAMP:20260421T202445
DTSTART;TZID=Europe/Berlin:20260810T173000
DTEND;TZID=Europe/Berlin:20260810T183000
UID:261.4S699M-20260810T173000@VHSESSEN
SUMMARY:Sommerkurs A2 – Lesen, Sprechen, Schreiben und Hören (261.4S699M) 
LOCATION:virtueller Kursraum
END:VEVENT
END:VCALENDAR